BEGIN:VCALENDAR
VERSION:2.0
PRODID:-//ChamberMaster//Event Calendar 2.0//EN
METHOD:PUBLISH
X-PUBLISHED-TTL:P3D
REFRESH-INTERVAL:P3D
CALSCALE:GREGORIAN
BEGIN:VEVENT
DTSTART:20190928T130000Z
DTEND:20190929T165500Z
X-MICROSOFT-CDO-ALLDAYEVENT:FALSE
SUMMARY:You're Invited!
DESCRIPTION:First Watch restaurant will be accepting donations for Riley's Army during their pre-opening sneak peak!\n\n\n\nYou and up to 3 guest are invited to dine with First Watch!\n\n \n\nSaturday\, September 28 or Sunday\, September 29\n\n \n\nFirst Watch   Greenville\n\n610 Greenville Blvd SE\, Suite 100\n\nGreenville\, NC 27858\n\n \n\nPlease RSVP by clicking here!\n\n \n\nThe restaurant will OPEN to the PUBLIC on Monday\, September 30th at 7am!\n\n We appreciate you spreading the news about the new restaurant on your social media!
X-ALT-DESC;FMTTYPE=text/html:First Watch restaurant will be accepting donations for Riley&#39\;s Army during their pre-opening sneak peak!<br />\n<br />\nYou and up to 3 guest are invited to dine with First Watch!<br />\n&nbsp\;<br />\nSaturday\, September 28 or Sunday\, September 29<br />\n&nbsp\;<br />\nFirst Watch &ndash\; Greenville<br />\n610 Greenville Blvd SE\, Suite 100<br />\nGreenville\, NC 27858<br />\n&nbsp\;<br />\n<a href="https://www.signupgenius.com/go/20F094EAAAF2BA2FB6-first4">Please RSVP by clicking here!</a><br />\n&nbsp\;<br />\nThe restaurant will OPEN to the PUBLIC on Monday\, September 30th at 7am!<br />\n&nbsp\;We appreciate you spreading the news about the new restaurant on your social media!
LOCATION:First Watch Greenville 610 Greenville Blvd SE\, Suite 100 Greenville\, NC 27858
UID:e.840.10786
SEQUENCE:3
DTSTAMP:20260420T104647Z
URL:https://business.greenvillenc.org/events/details/you-re-invited-10786
END:VEVENT

END:VCALENDAR
