BEGIN:VCALENDAR
VERSION:2.0
PRODID:-//ChamberMaster//Event Calendar 2.0//EN
METHOD:PUBLISH
X-PUBLISHED-TTL:P3D
REFRESH-INTERVAL:P3D
CALSCALE:GREGORIAN
BEGIN:VEVENT
DTSTART:20151205T130000Z
DTEND:20151205T180000Z
X-MICROSOFT-CDO-ALLDAYEVENT:FALSE
SUMMARY:Yard Sale for Toys for Tots
DESCRIPTION:Wasabi 88 is holding its' first yard sale! 100% of the money made will be donated to Toys for Tots\, which is an organization that provides books\, toys\, and other gifts to less fortunate children. We would love your help! You can bring toys to donate\, items to sale in the yard sale\, or come out and go shopping. All money and toys donated will be sent to children to make their holiday special. If you are interested in donating toys or items for the yard sale\, contact us through our facebook page or call at (252)-493-0510. Thanks!  Let's get Greenville involved in changing lives.
X-ALT-DESC;FMTTYPE=text/html:<span style="font-family: calibri\;"><span style="font-size: 18pt\;">Wasabi 88 is holding its&rsquo\; first yard sale! 100% of the money made will be donated to Toys for Tots\, which is an organization that provides books\, toys\, and other gifts to less fortunate children. We would love your help! You can bring toys to donate</span><span style="font-size: 24pt\;">\, </span><span style="font-size: 18pt\;">items to sale in the yard sale\, or come out and go shopping. All money and toys donated will be sent to children to make their holiday special. If you are interested in donating toys or items for the yard sale\, contact us through our facebook page or call at (252)-493-0510. Thanks!&nbsp\; Let&rsquo\;s get Greenville involved in changing lives.</span></span><br />\n&nbsp\;
LOCATION:Wasabi 88 1605 East Fire Tower Road
UID:e.840.2445
SEQUENCE:3
DTSTAMP:20260424T163738Z
URL:https://business.greenvillenc.org/events/details/yard-sale-for-toys-for-tots-12-05-2015-2445
END:VEVENT

END:VCALENDAR
