BEGIN:VCALENDAR
VERSION:2.0
PRODID:-//ChamberMaster//Event Calendar 2.0//EN
METHOD:PUBLISH
X-PUBLISHED-TTL:P3D
REFRESH-INTERVAL:P3D
CALSCALE:GREGORIAN
BEGIN:VEVENT
DTSTART:20200420T130000Z
DTEND:20200420T203000Z
X-MICROSOFT-CDO-ALLDAYEVENT:FALSE
SUMMARY:WordPress SEO - Online Instructor Led
DESCRIPTION:Approximately 75 million websites are currently built with WordPress. Given the volume of websites built on this platform\, this course will focus on how to get started with search engine optimization (SEO) using WordPress. You will gain a fundamental understanding of SEO and the tools used for this type of marketing with a WordPress website.
X-ALT-DESC;FMTTYPE=text/html:Approximately 75 million websites are currently built with WordPress. Given the volume of websites built on this platform\, this course will focus on how to get started with search engine optimization (SEO) using WordPress. You will gain a fundamental understanding of SEO and the tools used for this type of marketing with a WordPress website.
LOCATION:This class will be taught online.
UID:e.840.11415
SEQUENCE:3
DTSTAMP:20260420T013353Z
URL:https://business.greenvillenc.org/events/details/wordpress-seo-online-instructor-led-11415
END:VEVENT

END:VCALENDAR
