BEGIN:VCALENDAR
VERSION:2.0
PRODID:-//ChamberMaster//Event Calendar 2.0//EN
METHOD:PUBLISH
X-PUBLISHED-TTL:P3D
REFRESH-INTERVAL:P3D
CALSCALE:GREGORIAN
BEGIN:VEVENT
DTSTART:20180803T110000Z
DTEND:20180803T230000Z
X-MICROSOFT-CDO-ALLDAYEVENT:FALSE
SUMMARY:WNCT Telethon
DESCRIPTION:Join us for our Second Annual WNCT Telethon that will air live in the studio on Friday\, August 3rd\, 2018 from 7 a.m. to 7 p.m! Call in that day to make a pledge in honor of our families.\n\nThank you to everyone who contributed to our 1st annual WNCT Telethon last year where we raised almost $10\,000. This year\, help us reach our goal of $20\,000! Your participation in the Telethon will help support critically ill or injured children and their families staying in both of the Ronald McDonald Houses here in Greenville. We hope you will consider joining us for this big event!\n\nFor questions\, please call us at 252-847-5435!
X-ALT-DESC;FMTTYPE=text/html:<p>Join us for our Second Annual WNCT Telethon that will air live in the studio on Friday\, August 3rd\, 2018 from 7 a.m. to 7 p.m! Call in that day to make a pledge in honor of our families.</p>\n\n<p>Thank you to everyone who contributed to our 1st annual WNCT Telethon last year where we raised almost $10\,000. This year\, help us reach our goal of $20\,000!&nbsp\;Your participation in the Telethon will help support critically ill or injured children and their families staying in both of the Ronald McDonald Houses here in Greenville. We hope you will consider joining us for this big event!</p>\n\n<p>For questions\, please call us at 252-847-5435!</p>\n
LOCATION:
UID:e.840.8895
SEQUENCE:3
DTSTAMP:20260421T043248Z
URL:https://business.greenvillenc.org/events/details/wnct-telethon-8895
END:VEVENT

END:VCALENDAR
