BEGIN:VCALENDAR
VERSION:2.0
PRODID:-//ChamberMaster//Event Calendar 2.0//EN
METHOD:PUBLISH
X-PUBLISHED-TTL:P3D
REFRESH-INTERVAL:P3D
CALSCALE:GREGORIAN
BEGIN:VEVENT
DTSTART:20161021T230000Z
DTEND:20161022T010000Z
X-MICROSOFT-CDO-ALLDAYEVENT:FALSE
SUMMARY:Winterville Civitan Club Beer & Wine Tasting Event
DESCRIPTION:We hope you will join us on Friday\, October 21\, from 7   9 p.m. at Firefly Wine Shop\, 3110 Evans Street in Greenville for the Winterville Civitan Club Grapes & Grain event.  \n\n \n\nTickets are $20 per person and entitle you to sample either 6 wines (the grapes) or 6 NC-based craft beers (the grain)\, food\, and event glass for your tastings.  You may purchase your ticket through Riley's Army (919-608-8421)\, contact Norreen Furness at nsfurness@embarqmail.com\, or go to Eventbrite under Winterville Civitan Wine Tasting. \n\n\n\nProceeds benefit Riley's Army\, a nonprofit organization that supports children with cancer in Eastern NC.  \n\n\n\nThe Winterville Civitan Club is an organization of volunteer service clubs around the world\, dedicated to helping people in their own communities. Civitans help wherever the need arises   from collecting food for a homeless shelter\, to volunteering at their local retirement home\, to building a playground for children with disabilities. Civitans have been helping people since the organization's founding in 1917\, by a group of businessmen determined to make a difference in their community.
X-ALT-DESC;FMTTYPE=text/html:<div><span style="color:#333333">We hope you will join us on Friday\, October 21\, from 7 &ndash\; 9 p.m. at Firefly Wine Shop\, 3110 Evans Street in Greenville for the Winterville Civitan Club Grapes &amp\; Grain event.&nbsp\;&nbsp\;</span><br />\n&nbsp\;<br />\n<span style="color:#333333">Tickets are $20 per person and entitle you to sample either 6 wines (the grapes) or 6 NC-based craft beers (the grain)\, food\, and event glass for your tastings.&nbsp\; You may purchase your ticket through Riley&rsquo\;s Army (919-608-8421)\, </span>contact Norreen Furness at <a href="mailto:nsfurness@embarqmail.com">nsfurness@embarqmail.com</a>\, or go to Eventbrite under Winterville <span style="color:#1D2129">Civitan Wine Tasting. </span><br />\n<br />\n<span style="color:#333333">Proceeds benefit Riley&rsquo\;s Army\, a nonprofit organization that supports children with cancer in Eastern N</span><span style="color:#333333">C.&nbsp\; </span><br />\n<br />\nThe Winterville <span style="color:#1D2129">Civitan Club is an organizati</span>on of volunteer service clubs around the world\, dedicated to helping people in their own communities. Civitans help wherever the need arises &ndash\; from collecting&nbsp\;food for a homeless shelter\, to volunteering at their local retirement&nbsp\;home\, to building a playground&nbsp\;for children with disabilities. Civitans have been helping people since the organization&rsquo\;s founding in 1917\, by a group of businessmen determined&nbsp\;to make a difference&nbsp\;in their community.<br />\n&nbsp\;</div>\n
LOCATION:Firefly Wine Shop- 3110 S Evans Street\, Greenville
UID:e.840.6288
SEQUENCE:3
DTSTAMP:20260424T011114Z
URL:https://business.greenvillenc.org/events/details/winterville-civitan-club-beer-wine-tasting-event-6288
END:VEVENT

END:VCALENDAR
