BEGIN:VCALENDAR
VERSION:2.0
PRODID:-//ChamberMaster//Event Calendar 2.0//EN
METHOD:PUBLISH
X-PUBLISHED-TTL:P3D
REFRESH-INTERVAL:P3D
CALSCALE:GREGORIAN
BEGIN:VEVENT
DTSTART:20180224T150000Z
DTEND:20180224T230000Z
X-MICROSOFT-CDO-ALLDAYEVENT:FALSE
SUMMARY:Winter Storewide Sale
DESCRIPTION:This is one of our biggest events of the year!!! We will have sales throughout our 75 shoppes! Door prizes will be given away and we will serve light refreshments. Stop in to get a head start on your spring shopping!! We will be open from 10:00-6:00.\n\n\n\n \n\n\n\nCome See What Everyone's Talking About!
X-ALT-DESC;FMTTYPE=text/html:<div>\n<div><span style="font-family:inherit">This is one of our biggest events of the year!!! We will have sales throughout our 75 shoppes! Door prizes will be given away and we will serve light refreshments. Stop in to get a head start on your spring shopping!! We will be open from 10:00-6:00.</span></div>\n</div>\n\n<div>\n<div>&nbsp\;</div>\n</div>\n\n<div>\n<div><span style="font-family:inherit">Come See What Everyone&#39\;s Talking About!</span></div>\n</div>\n
LOCATION:150 Plaza Drive Greenville\, NC 27858
UID:e.840.8719
SEQUENCE:3
DTSTAMP:20260423T032541Z
URL:https://business.greenvillenc.org/events/details/winter-storewide-sale-8719
END:VEVENT

END:VCALENDAR
