BEGIN:VCALENDAR
VERSION:2.0
PRODID:-//ChamberMaster//Event Calendar 2.0//EN
METHOD:PUBLISH
X-PUBLISHED-TTL:P3D
REFRESH-INTERVAL:P3D
CALSCALE:GREGORIAN
BEGIN:VEVENT
DTSTART:20171027T230000Z
DTEND:20171028T010000Z
X-MICROSOFT-CDO-ALLDAYEVENT:FALSE
SUMMARY:Wine Tasting to benefit Riley's Army
DESCRIPTION:We hope you will join us on Friday\, October 27th \, from 7   9 p.m. at Firefly Wine Shop\, 3110 Evans Street in Greenville for the Winterville Civitan Club Grapes & Grain event.  \n\n \n\nTickets are $20 per person and entitle you to sample either 6 wines (the grapes) or 6 NC-based craft beers (the grain)\, food\, and event glass for your tastings.  You may purchase your ticket through Riley's Army (919-608-8421)\, contact Norreen Furness at ngfurness@suddenlink.net\, or go to Eventbrite under Winterville Civitan Wine Tasting.\n\n\n\nA portion of the proceeds benefit Riley's Army\, a nonprofit organization that supports children with cancer in Eastern NC.  \n\n \n\nThe Winterville Civitan Club is an organization of volunteer service clubs around the world\, dedicated to helping people in their own communities. Civitans help wherever the need arises   from collecting food for a homeless shelter\, to volunteering at their local retirement home\, to building a playground for children with disabilities. Civitans have been helping people since the organization's founding in 1917\, by a group of businessmen determined to make a difference in their community.  The Winterville Civitan Club meets the third Monday of every month at the Winterville Free Will Baptist Church on Cooper Street.
X-ALT-DESC;FMTTYPE=text/html:<p><span style="color:rgb(51\, 51\, 51)">We hope you will join us on Friday\, October 27<sup>th</sup> \, from 7 &ndash\; 9 p.m. at Firefly Wine Shop\, 3110 Evans Street in Greenville for the Winterville Civitan Club Grapes &amp\; Grain event.&nbsp\;&nbsp\;</span></p>\n\n<p><span style="color:rgb(51\, 51\, 51)">&nbsp\;</span></p>\n\n<p><span style="color:rgb(51\, 51\, 51)">Tickets are $20 per person and entitle you to sample either 6 wines (the grapes) or 6 NC-based craft beers (the grain)\, food\, and event glass for your tastings.&nbsp\; You may purchase your ticket through Riley&rsquo\;s Army (919-608-8421)\, </span>contact <strong>Norreen Furness</strong> at<span style="color:rgb(31\, 73\, 125)"> </span>ngfurness@suddenlink.net\, or go to Eventbrite under Winterville <span style="color:rgb(29\, 33\, 41)">Civitan Wine Tasting.</span></p>\n\n<p><br />\n<span style="color:rgb(51\, 51\, 51)">A portion of the proceeds benefit Riley&rsquo\;s Army\, a nonprofit organization that supports children with cancer in Eastern N</span><span style="color:rgb(51\, 51\, 51)">C.&nbsp\; </span></p>\n\n<p><span style="color:rgb(51\, 51\, 51)">&nbsp\;</span></p>\n\n<p>The Winterville <span style="color:rgb(29\, 33\, 41)">Civitan Club is an organization of volunteer service clubs around the world\, dedicated to helping people in their own communities. Civitans help wherever the need arises &ndash\; from collecting&nbsp\;food for a homeless shelter\, to volunteering at their local retirement&nbsp\;home\, to building a playground&nbsp\;for children with disabilities. Civitans have been helping people since the organization&rsquo\;s founding in 1917\, by a group of businessmen determined&nbsp\;to make a difference&nbsp\;in their community.</span><span style="color:rgb(31\, 73\, 125)">&nbsp\; </span>The Winterville Civitan Club meets the third Monday of every month at the Winterville Free Will Baptist Church on Cooper Street.</p>\n
LOCATION:Firefly Wine Shop- 3110 Evans St
UID:e.840.8672
SEQUENCE:3
DTSTAMP:20260423T075945Z
URL:https://business.greenvillenc.org/events/details/wine-tasting-to-benefit-riley-s-army-8672
END:VEVENT

END:VCALENDAR
