BEGIN:VCALENDAR
VERSION:2.0
PRODID:-//ChamberMaster//Event Calendar 2.0//EN
METHOD:PUBLISH
X-PUBLISHED-TTL:P3D
REFRESH-INTERVAL:P3D
CALSCALE:GREGORIAN
BEGIN:VEVENT
DTSTART:20160506T000000Z
DTEND:20160506T030000Z
X-MICROSOFT-CDO-ALLDAYEVENT:FALSE
SUMMARY:Will Seymour at Ribeye's
DESCRIPTION:
X-ALT-DESC;FMTTYPE=text/html:
LOCATION:Ribeye's of Greenville 1909-A Firetower Rd
UID:e.840.2464
SEQUENCE:3
DTSTAMP:20260424T083248Z
URL:https://business.greenvillenc.org/events/details/will-seymour-at-ribeye-s-05-05-2016-2464
END:VEVENT

END:VCALENDAR
