BEGIN:VCALENDAR
VERSION:2.0
PRODID:-//ChamberMaster//Event Calendar 2.0//EN
METHOD:PUBLISH
X-PUBLISHED-TTL:P3D
REFRESH-INTERVAL:P3D
CALSCALE:GREGORIAN
BEGIN:VEVENT
DTSTART;VALUE=DATE:20170424
DTEND;VALUE=DATE:20170901
TRANSP:TRANSPARENT
X-MICROSOFT-CDO-ALLDAYEVENT:TRUE
SUMMARY:Weekly Events at Fire American Tavern
DESCRIPTION:Sun- Brunch 11-4\n\nMon- World Tavern Poker 7pm and 9pm free to play \n\nTues-  World Tavern Team Trivia 8pm  Free to play\n\nWed-  Karaoke With Adrian Watts 8:30pm-midnight\n\nFri and Sat- Live Entertainment
X-ALT-DESC;FMTTYPE=text/html:Sun- Brunch 11-4<br />\nMon- World Tavern Poker 7pm and 9pm free to play&nbsp\;<br />\nTues- &nbsp\;World Tavern Team Trivia 8pm &nbsp\;Free to play<br />\nWed- &nbsp\;Karaoke With Adrian Watts 8:30pm-midnight<br />\n<span style="font-family:times new roman\,serif"><span style="font-size:12.0pt">Fri and Sat- Live Entertainment</span></span>
LOCATION:
UID:e.840.8064
SEQUENCE:3
DTSTAMP:20260423T104447Z
URL:https://business.greenvillenc.org/events/details/weekly-events-at-fire-american-tavern-8064
END:VEVENT

END:VCALENDAR
