BEGIN:VCALENDAR
VERSION:2.0
PRODID:-//ChamberMaster//Event Calendar 2.0//EN
METHOD:PUBLISH
X-PUBLISHED-TTL:P3D
REFRESH-INTERVAL:P3D
CALSCALE:GREGORIAN
BEGIN:VEVENT
DTSTART:20190223T130000Z
DTEND:20190223T160000Z
X-MICROSOFT-CDO-ALLDAYEVENT:FALSE
SUMMARY:Washington 5K and Fun Run
DESCRIPTION:Join the fun as we run through the streets of historic Washington wearing powdered wigs!  Compete for cherry pies in the timed 5K or do your thing in the 1 mile fun run!\n\nThe race starts when George makes his ceremonial crossing of the cold Pamlico river!\n\nIt's going to be epic!  Registration starts at 8am.  Race at 9am.  Awesome!\n\nThe first 50 participants to register get a t-shirt\, and EVERYONE gets a wig!\n\nA portion of the proceeds will benefit the Washington\, NC Harbor District Alliance\nTo register\, go to www.washingtonweeknc.com
X-ALT-DESC;FMTTYPE=text/html:<h4>Join the fun as we run through the streets of historic Washington wearing powdered wigs!&nbsp\; Compete for cherry pies in the timed 5K or do your thing in the 1 mile fun run!</h4>\n\n<h4>The race starts when George makes his ceremonial crossing of the cold Pamlico river!</h4>\n\n<h4>It&rsquo\;s going to be epic!&nbsp\; Registration starts at 8am.&nbsp\; Race at 9am.&nbsp\; Awesome!</h4>\n\n<h4>The first 50 participants to register get a t-shirt\, and EVERYONE gets a wig!</h4>\n\n<h4>A portion of the proceeds will benefit the Washington\, NC Harbor District Alliance</h4>\nTo register\, go to www.washingtonweeknc.com&nbsp\;&nbsp\;
LOCATION:119 Water Street Washington\, NC 27889
UID:e.840.9763
SEQUENCE:3
DTSTAMP:20260420T202517Z
URL:https://business.greenvillenc.org/events/details/washington-5k-and-fun-run-9763
END:VEVENT

END:VCALENDAR
