BEGIN:VCALENDAR
VERSION:2.0
PRODID:-//ChamberMaster//Event Calendar 2.0//EN
METHOD:PUBLISH
X-PUBLISHED-TTL:P3D
REFRESH-INTERVAL:P3D
CALSCALE:GREGORIAN
BEGIN:VEVENT
DTSTART:20171004T210000Z
DTEND:20171004T223000Z
X-MICROSOFT-CDO-ALLDAYEVENT:FALSE
SUMMARY:2017-18 Voyages of Discovery Speaker Reception - Colson Whitehead
DESCRIPTION:2017-2018 VOYAGES OF DISCOVERY SPEAKER RECEPTION\nThe Thomas Harriot College of Arts and Sciences invites you to a reception celebrating the 2017-2018 Voyages of Discovery Series speaker Colson Whitehead\, a 2017 Pulizer-Prize-winning novelist best known for his novel The Underground Railroad. Attendees will have an opportunity to interact with Mr. Whitehead.\n\n\n\nOctober 4\, 2017 at 5:00   6:30 p.m. \n\n(prior to the lecture that begins at 7:00 p.m. in Wright Auditorium)\n\nStarlight Cafe \n\n104 West 5th Street\n\nGreenville\, NC\n\nHors d'oeuvres\, beer and wine reception\; business casual attire. \n\nLIMITED TO 70 GUESTS.\n\n\nIf you have questions about the Voyages of Discovery Speaker Receptions\, please contact Jessica Nottingham\, Director of Alumni Relations and Outreach\, at nottinghamj@ecu.edu or 252-737-1753.\n\n\n\n2017-2018 VOYAGES OF DISCOVERY SERIES\n\nReading and commentary from the author of the novel\, The Underground Railroad\n\nOctober 4\, 2017 - 7:00 p.m. in Wright Auditorium\n\nVoyages of Discovery Series tickets can be purchased at www.ecu.edu/voyages or by calling 1-800-ECU-ARTS.\n\n\nNot able to attend\, but interested in supporting the Voyages of Discovery Lecture Series?\n\nGo to Make a Gift from the Thomas Harriot College of Arts and Sciences homepage to give online. For more information on the series\, contact Dr. Jeffrey Johnson\, Director of the Voyages of Discovery Series at 252-328-6378 or johnsonj@ecu.edu.
X-ALT-DESC;FMTTYPE=text/html:<div style="text-align:center"><strong>2017-2018 VOYAGES OF DISCOVERY SPEAKER RECEPTION</strong></div>\nThe Thomas Harriot College of Arts and Sciences invites you to a reception celebrating the 2017-2018 Voyages of Discovery Series speaker <strong>Colson Whitehead</strong>\, a 2017 Pulizer-Prize-winning novelist best known for his novel <em>The Underground Railroad</em>. Attendees will have an opportunity to interact with Mr. Whitehead.\n\n<div style="text-align:center"><br />\n<strong>October 4\, 2017 at 5:00 &ndash\; 6:30 p.m. </strong><br />\n<em>(prior to the lecture that begins at 7:00 p.m. in Wright Auditorium)</em><br />\n<strong>Starlight Cafe </strong><br />\n104 West 5th Street<br />\n<span style="font-size:12.0pt">G</span>reenville\, NC<br />\n<em>Hors d&rsquo\;oeuvres\, beer and wine reception\; business casual attire.&nbsp\;</em><br />\nLIMITED TO 70 GUESTS.</div>\n<br />\nIf you have questions about the Voyages of Discovery Speaker Receptions\, please contact Jessica Nottingham\, Director of Alumni Relations and Outreach\, at <a href="mailto:nottinghamj@ecu.edu">nottinghamj@ecu.edu</a> or 252-737-1753.\n\n<div style="text-align:center"><br />\n<strong>2017-2018 VOYAGES OF DISCOVERY SERIES</strong></div>\n\n<div style="text-align:center"><strong>Reading and commentary from the author of the novel\,&nbsp\;<em>The Underground Railroad</em></strong><br />\n<strong>October 4\, 2017 - 7:00 p.m. in Wright Auditorium</strong><br />\nVoyages of Discovery Series tickets can be purchased at <a href="http://www.ecu.edu/voyages"><strong>www.ecu.edu/voyages</strong></a> or by calling <strong>1-800-ECU-ARTS</strong>.</div>\n<br />\nNot able to attend\, but interested in supporting the Voyages of Discovery Lecture Series?<br />\nGo to <a href="https://piratealumni.ecu.edu/ccon/new_gift.do?action=newGift&amp\;giving_page_id=16"><strong>Make a Gift</strong></a> from the <a href="http://www.ecu.edu/cas/"><strong>Thomas Harriot College of Arts and Sciences homepage</strong></a> to give online. For more information on the series\, contact Dr. Jeffrey Johnson\, Director of the Voyages of Discovery Series at 252-328-6378 or <a href="mailto:johnsonj@ecu.edu">johnsonj@ecu.edu</a>.<br />\n<br />\n&nbsp\;
LOCATION:Starlight Cafe 104 West 5th Street Greenville\, NC
UID:e.840.8663
SEQUENCE:3
DTSTAMP:20260423T091919Z
URL:https://business.greenvillenc.org/events/details/voyages-of-discovery-speaker-reception-8663
END:VEVENT

END:VCALENDAR
