BEGIN:VCALENDAR
VERSION:2.0
PRODID:-//ChamberMaster//Event Calendar 2.0//EN
METHOD:PUBLISH
X-PUBLISHED-TTL:P3D
REFRESH-INTERVAL:P3D
CALSCALE:GREGORIAN
BEGIN:VEVENT
DTSTART:20190404T230000Z
DTEND:20190405T003000Z
X-MICROSOFT-CDO-ALLDAYEVENT:FALSE
SUMMARY:Voyages of Discovery Series presents Dr. Lisa Randall - "Dark Matter and the Dinosaurs"
DESCRIPTION:Dr. Lisa Randall\n\n\n\nHarvard University Physicist\n\n\n\n \n\n\n\n"Dark Matter and the Dinosaurs"\n\n\n\n \n\n\n\nApril 4\, 2019 | 7:00 PM | Wright Auditorium\n\n\n\n \n\n\n\n \n\n\n\nDr. Lisa Randall is an acclaimed Harvard University physicist and author of the book Dark Matter and the Dinosaurs. Randall's studies involve the most fundamental questions about the nature of matter\, space and the universe. Her research into extra dimensions of space\, particle physics and cosmology has made her one of the most important and cited theoretical physicists today\, and she was named one of Time magazine's "100 Most Influential People."\n\n\n\n \n\n\n\nFor more information\, visit www.ecu.edu/voyages.
X-ALT-DESC;FMTTYPE=text/html:<div>\n<div><span style="font-family:inherit">Dr. Lisa Randall</span></div>\n</div>\n\n<div>\n<div><span style="font-family:inherit">Harvard University Physicist</span></div>\n</div>\n\n<div>\n<div>&nbsp\;</div>\n</div>\n\n<div>\n<div><span style="font-family:inherit">&quot\;Dark Matter and the Dinosaurs&quot\;</span></div>\n</div>\n\n<div>\n<div>&nbsp\;</div>\n</div>\n\n<div>\n<div><span style="font-family:inherit">April 4\, 2019 | 7:00 PM | Wright Auditorium</span></div>\n</div>\n\n<div>\n<div>&nbsp\;</div>\n</div>\n\n<div>\n<div>&nbsp\;</div>\n</div>\n\n<div>\n<div><span style="font-family:inherit">Dr. Lisa Randall is an acclaimed Harvard University physicist and author of the book Dark Matter and the Dinosaurs. Randall&#39\;s studies involve the most fundamental questions about the nature of matter\, space and the universe. Her research into extra dimensions of space\, particle physics and cosmology has made her one of the most important and cited theoretical physicists today\, and she was named one of Time magazine&#39\;s &quot\;100 Most Influential People.&quot\;</span></div>\n</div>\n\n<div>\n<div>&nbsp\;</div>\n</div>\n\n<div>\n<div><span style="font-family:inherit">For more information\, visit www.ecu.edu/voyages.</span></div>\n</div>\n
LOCATION:East Carolina University Wright Auditorium
UID:e.840.8916
SEQUENCE:3
DTSTAMP:20260420T180458Z
URL:https://business.greenvillenc.org/events/details/voyages-of-discovery-series-presents-dr-lisa-randall-dark-matter-and-the-dinosaurs-8916
END:VEVENT

END:VCALENDAR
