BEGIN:VCALENDAR
VERSION:2.0
PRODID:-//ChamberMaster//Event Calendar 2.0//EN
METHOD:PUBLISH
X-PUBLISHED-TTL:P3D
REFRESH-INTERVAL:P3D
CALSCALE:GREGORIAN
BEGIN:VEVENT
DTSTART:20190222T000000Z
DTEND:20190222T013000Z
X-MICROSOFT-CDO-ALLDAYEVENT:FALSE
SUMMARY:Voyages of Discovery Series presents Clinton Van Zandt - "Psychological Profiling: Solving Famous Unsolved Cases"
DESCRIPTION:Clinton Van Zandt\n\nRetired FBI Profiler and Hostage Negotiator \n\n\n\n"Psychological Profiling: Solving Famous Unsolved Cases" \n\n\n\nFebruary 21\, 2019 | 7:00 PM | ECU\, Wright Auditorium\n\n\n\n\n\nClinton Van Zandt is a retired FBI profiler and hostage negotiator who led the internationally respected Behavioral Science or "Silence of the Lambs" Unit. He has been the primary hostage negotiator for many national and international kidnap and hostage situations\, has testified before the U.S. Senate\, and has made more appearances than any other FBI Agent (3\,000+) on national and international television shows on NBC\, MSNBC\, Fox\, CNN\, ABC\, CBS\, and NPR. In addition\, Van Zandt is a former U.S. Army counter-intelligence agent and a Vietnam War veteran.\n\n\n\nFor more information\, visit www.ecu.edu/voyages.
X-ALT-DESC;FMTTYPE=text/html:<a class="_2-mg" href="https://www.facebook.com/events/dialog/edit/page/?event_id=682706265415489&amp\;acontext=%7B%22source%22%3A1%2C%22action_history%22%3A%22%5B%7B%5C%22surface%5C%22%3A%5C%22page%5C%22%2C%5C%22mechanism%5C%22%3A%5C%22main_list%5C%22%2C%5C%22extra_data%5C%22%3A%5C%22%5C%5C%5C%22%5B%5D%5C%5C%5C%22%5C%22%7D%2C%7B%5C%22surface%5C%22%3A%5C%22permalink%5C%22%2C%5C%22mechanism%5C%22%3A%5C%22surface%5C%22%2C%5C%22extra_data%5C%22%3A%5B%5D%7D%5D%22%7D&amp\;focus_field=event_description" rel="dialog" style="color: rgb(0\, 0\, 0)\; cursor: pointer\; text-decoration-line: none\; font-family: system-ui\, -apple-system\, system-ui\, &quot\;.SFNSText-Regular&quot\;\, sans-serif\; font-size: 14px\; background-color: rgb(245\, 246\, 247)\;"><span style="font-family:inherit"><span style="background-color:#FFFFFF">Clinton Van Zandt</span><br />\n<span style="background-color:#FFFFFF">Retired FBI Profiler and Hostage Negotiator&nbsp\;</span><br />\n<br />\n<span style="background-color:#FFFFFF">&quot\;Psychological Profiling: Solving Famous Unsolved Cases&quot\;&nbsp\;</span><br />\n<br />\n<span style="background-color:#FFFFFF">February 21\, 2019 | 7:00 PM | ECU\, Wright Auditorium</span><br />\n<br />\n<br />\n<span style="background-color:#FFFFFF">Clinton Van Zandt is a retired FBI profiler and hostage negotiator who led the internationally respected Behavioral Science or &quot\;Silence of the Lambs&quot\; Unit. He has been the primary hostage negotiator for many national and international kidnap and hostage </span><span style="background-color:#FFFFFF">situations\,</span><span style="background-color:#FFFFFF"> has testified before the U.S. </span><span style="background-color:#FFFFFF">Senate\,</span><span style="background-color:#FFFFFF"> and has made more appearances than any other FBI Agent (3\,000+) on national and international television shows on NBC\, MSNBC\, Fox\, CNN\, ABC\, CBS\, and NPR. In addition\, Van Zandt is a former U.S. Army counter-intelligence agent and a Vietnam War veteran.</span><br />\n<br />\n<span style="background-color:#FFFFFF">For more information\, visit&nbsp\;</span></span></a><a href="https://l.facebook.com/l.php?u=http%3A%2F%2Fwww.ecu.edu%2Fvoyages&amp\;h=AT0oRxxgATu95_lhZoULjINeHkR8i0Dydvo0AMUgDs0cjOu5suz7-2u3AQ_feXdmoC82lKTurcW1nZx3YKPE9mnC0V9PhmicyuSaSAJvaJI_NShsEL6E-MI-MAIyodSmC6Ar7sqV" rel="nofollow noopener" style="color: rgb(54\, 88\, 153)\; cursor: pointer\; text-decoration-line: none\; font-family: system-ui\, -apple-system\, system-ui\, &quot\;.SFNSText-Regular&quot\;\, sans-serif\; font-size: 14px\; background-color: rgb(245\, 246\, 247)\;" target="_blank"><span style="background-color:#FFFFFF">www.ecu.edu/voyages</span></a><span style="font-size:14px"><span style="background-color:#FFFFFF">.</span></span>
LOCATION:East Carolina University Wright Auditorium
UID:e.840.8915
SEQUENCE:3
DTSTAMP:20260420T203618Z
URL:https://business.greenvillenc.org/events/details/voyages-of-discovery-series-presents-clinton-van-zandt-psychological-profiling-solving-famous-unsolved-cases-8915
END:VEVENT

END:VCALENDAR
