BEGIN:VCALENDAR
VERSION:2.0
PRODID:-//ChamberMaster//Event Calendar 2.0//EN
METHOD:PUBLISH
X-PUBLISHED-TTL:P3D
REFRESH-INTERVAL:P3D
CALSCALE:GREGORIAN
BEGIN:VEVENT
DTSTART:20181025T230000Z
DTEND:20181026T003000Z
X-MICROSOFT-CDO-ALLDAYEVENT:FALSE
SUMMARY:Voyages of Discovery Series presents Angus Konstam - "Blackbeard at 300: New Findings on North Carolina's Most (In)famous Pirate"
DESCRIPTION:Angus Konstam\n\n\n\nAuthor\, Historian and World-Renowned Expert on Pirates\n\n\n\n \n\n\n\n"Blackbeard at 300: New Findings on North Carolina's Most (In)famous Pirate" \n\n\n\n \n\n\n\nOctober 25\, 2018 | 7:00 PM | Wright Auditorium\n\n\n\n \n\n\n\n \n\n\n\nAngus Konstam\, a formal naval officer\, underwater archaeologist and museum curator\, specializes in maritime and military history. Konstam is best known for his work on piracy and is the author of more than 100 books\, including History of Pirates and Blackbeard: America's Most Notorious Pirate. His visit to ECU is timely as we celebrate the 300th anniversary of Blackbeard's death.\n\n\n\n \n\n\n\nFor more information\, visit www.ecu.edu/voyages.
X-ALT-DESC;FMTTYPE=text/html:<div>\n<div><span style="font-family:inherit">Angus Konstam</span></div>\n</div>\n\n<div>\n<div><span style="font-family:inherit">Author\, Historian and World-Renowned Expert on Pirates</span></div>\n</div>\n\n<div>\n<div>&nbsp\;</div>\n</div>\n\n<div>\n<div><span style="font-family:inherit">&quot\;Blackbeard at 300: New Findings on North Carolina&#39\;s Most (In)famous Pirate&quot\; </span></div>\n</div>\n\n<div>\n<div>&nbsp\;</div>\n</div>\n\n<div>\n<div><span style="font-family:inherit">October 25\, 2018 | 7:00 PM | Wright Auditorium</span></div>\n</div>\n\n<div>\n<div>&nbsp\;</div>\n</div>\n\n<div>\n<div>&nbsp\;</div>\n</div>\n\n<div>\n<div><span style="font-family:inherit">Angus Konstam\, a formal naval officer\, underwater archaeologist and museum curator\, specializes in maritime and military history. Konstam is best known for his work on piracy and is the author of more than 100 books\, including History of Pirates and Blackbeard: America&#39\;s Most Notorious Pirate. His visit to ECU is timely as we celebrate the 300th anniversary of Blackbeard&#39\;s death.</span></div>\n</div>\n\n<div>\n<div>&nbsp\;</div>\n</div>\n\n<div>\n<div><span style="font-family:inherit">For more information\, visit www.ecu.edu/voyages.</span></div>\n</div>\n
LOCATION:East Carolina University Wright Auditorium
UID:e.840.8914
SEQUENCE:3
DTSTAMP:20260421T014851Z
URL:https://business.greenvillenc.org/events/details/voyages-of-discovery-series-presents-angus-konstam-blackbeard-at-300-new-findings-on-north-carolina-s-most-in-famous-pirate-8914
END:VEVENT

END:VCALENDAR
