BEGIN:VCALENDAR
VERSION:2.0
PRODID:-//ChamberMaster//Event Calendar 2.0//EN
METHOD:PUBLISH
X-PUBLISHED-TTL:P3D
REFRESH-INTERVAL:P3D
CALSCALE:GREGORIAN
BEGIN:VEVENT
DTSTART:20190411T213000Z
DTEND:20190412T010000Z
X-MICROSOFT-CDO-ALLDAYEVENT:FALSE
SUMMARY:VOTRE Boutique Spring Fashion Show
DESCRIPTION:Join us for a night under the twinkle lights for our Spring Fashion Show on Thursday\, April 11th at 5:30 on Nino's patio. Food will be by Nino's and we will have 20% off for VOTRE Bounce Back Card for Pink. VOTRE Special Alterations Services Available. And we will have 20% off all day.
X-ALT-DESC;FMTTYPE=text/html:Join us for a night under the twinkle lights for our Spring Fashion Show on Thursday\, April 11th at 5:30 on Nino&#39\;s patio. Food will be by Nino&#39\;s and we will have 20% off for VOTRE Bounce Back Card for Pink.&nbsp\;VOTRE Special Alterations Services Available.&nbsp\;And we will have 20% off all day.
LOCATION:Lynndale Shoppes 511 Red Banks Rd. Greenville\, NC
UID:e.840.9780
SEQUENCE:3
DTSTAMP:20260420T191546Z
URL:https://business.greenvillenc.org/events/details/votre-boutique-spring-fashion-show-9780
END:VEVENT

END:VCALENDAR
