BEGIN:VCALENDAR
VERSION:2.0
PRODID:-//ChamberMaster//Event Calendar 2.0//EN
METHOD:PUBLISH
X-PUBLISHED-TTL:P3D
REFRESH-INTERVAL:P3D
CALSCALE:GREGORIAN
BEGIN:VEVENT
DTSTART:20160620T203000Z
DTEND:20160620T230000Z
X-MICROSOFT-CDO-ALLDAYEVENT:FALSE
SUMMARY:Volunteers Needed for Riley's Army
DESCRIPTION:Our ECU Hooked On Riley's Army Student Organization will participate in the upcoming Orientation Fairs. They will have a total of 62 registered student organizations and 22 club sports! The dates are:  June 13th\, 15th\, 20th\, 22th\, 27th\, 29th\, July 11th\, 13th.\n\n\n	         Please check-in no later than 4:45 p.m.\n	         You must be in attendance the entire time   5:00pm to 7:00pm.\n	\n		   The event is starting earlier this year\, but we will still have thousands of parents and students coming in that may not be able to make it to our table until just before the session closes.\n	\n	\n	         All organizations will be sharing a table AND will be grouped by organization category.\n	\n		   As an example\, all Office of Greek Life organizations (IFC\, PHC\, MGC\, and NPHC) will be sharing tables and all Religious/Faith based organizations will be sharing a table. Using hundreds of other institutions as an example this was praised by parents and students last year and we hope for the same feedback this summer.\n	\n	\n\nThere will be 2 volunteers per session needed.  We will raise awareness of Hooked On RA\, hand out flyers\, sign up volunteers\, and give away freebies.\n\nWe hope to have a number of new volunteers and students interested in our wonderful organization! \n\n \n\n Please sign up to volunteer here:\n\nhttp://www.signupgenius.com/go/9040949adab28ab9-hooked
X-ALT-DESC;FMTTYPE=text/html:<span style="font-family:helvetica\,sans-serif"><span style="font-size:12.0pt">Our ECU Hooked On Riley&rsquo\;s Army Student Organization will participate in the upcoming Orientation Fairs. They will have a total of 62 registered student organizations and 22 club sports! The dates are:&nbsp\; June 13th\, 15th\, 20th\, 22th\, 27th\, 29th\, July 11th\, 13th.</span></span>\n\n<ul>\n	<li><span style="font-family:helvetica\,sans-serif"><span style="font-size:12.0pt">&nbsp\;&nbsp\;&nbsp\;&nbsp\;&nbsp\;&nbsp\;&nbsp\;&nbsp\; Please check-in no later than 4:45 p.m.</span></span></li>\n	<li><span style="font-family:helvetica\,sans-serif"><span style="font-size:12.0pt">&nbsp\;&nbsp\;&nbsp\;&nbsp\;&nbsp\;&nbsp\;&nbsp\;&nbsp\; You must be in attendance the entire time &ndash\; 5:00pm to 7:00pm.</span></span>\n	<ul>\n		<li><span style="font-family:helvetica\,sans-serif"><span style="font-size:12.0pt">&nbsp\;&nbsp\; The event is starting earlier this year\, but we will still have thousands of parents and students coming in that may not be able to make it to our table until just before the session closes.</span></span></li>\n	</ul>\n	</li>\n	<li><span style="font-family:helvetica\,sans-serif"><span style="font-size:12.0pt">&nbsp\;&nbsp\;&nbsp\;&nbsp\;&nbsp\;&nbsp\;&nbsp\;&nbsp\; All organizations will be sharing a table AND will be grouped by organization category.</span></span>\n	<ul>\n		<li><span style="font-family:helvetica\,sans-serif"><span style="font-size:12.0pt">&nbsp\;&nbsp\; As an example\, all Office of Greek Life organizations (IFC\, PHC\, MGC\, and NPHC) will be sharing tables and all Religious/Faith based organizations will be sharing a table. Using hundreds of other institutions as an example this was praised by parents and students last year and we hope for the same feedback this summer.</span></span></li>\n	</ul>\n	</li>\n</ul>\n<span style="font-family:helvetica\,sans-serif"><span style="font-size:12.0pt">There will be 2 volunteers per session needed.&nbsp\; We will raise awareness of Hooked On RA\, hand out flyers\, sign up volunteers\, and give away freebies.</span></span><br />\n<span style="font-family:helvetica\,sans-serif"><span style="font-size:12.0pt">We hope to have a number of new volunteers and students interested in our wonderful organization!&nbsp\;</span></span><br />\n&nbsp\;<br />\n&nbsp\;Please sign up to volunteer here:<br />\n<span style="color:#7030A0">http://www.signupgenius.com/go/9040949adab28ab9-hooked</span>
LOCATION:
UID:e.840.4904
SEQUENCE:3
DTSTAMP:20260424T065717Z
URL:https://business.greenvillenc.org/events/details/volunteers-needed-for-riley-s-army-06-20-2016-4904
END:VEVENT

END:VCALENDAR
