BEGIN:VCALENDAR
VERSION:2.0
PRODID:-//ChamberMaster//Event Calendar 2.0//EN
METHOD:PUBLISH
X-PUBLISHED-TTL:P3D
REFRESH-INTERVAL:P3D
CALSCALE:GREGORIAN
BEGIN:VEVENT
DTSTART:20160613T203000Z
DTEND:20160613T230000Z
X-MICROSOFT-CDO-ALLDAYEVENT:FALSE
SUMMARY:Volunteers needed for Riley's Army
DESCRIPTION:Our ECU Hooked On Riley's Army Student Organization will participate in the upcoming Orientation Fairs. They will have a total of 62 registered student organizations and 22 club sports! The dates are:  June 13th\, 15th\, 20th\, 22th\, 27th\, 29th\, July 11th\, 13th.\n\n\n	         Please check-in no later than 4:45 p.m.\n	         You must be in attendance the entire time   5:00pm to 7:00pm.\n	\n		   The event is starting earlier this year\, but we will still have thousands of parents and students coming in that may not be able to make it to our table until just before the session closes.\n	\n	\n	         All organizations will be sharing a table AND will be grouped by organization category.\n	\n		   As an example\, all Office of Greek Life organizations (IFC\, PHC\, MGC\, and NPHC) will be sharing tables and all Religious/Faith based organizations will be sharing a table. Using hundreds of other institutions as an example this was praised by parents and students last year and we hope for the same feedback this summer.\n	\n	\n\n\nThere will be 2 volunteers per session needed.  We will raise awareness of Hooked On RA\, hand out flyers\, sign up volunteers\, and give away freebies.\n\nWe hope to have a number of new volunteers and students interested in our wonderful organization! \n\n\n\nPlease sign up here:  \n\nhttp://www.signupgenius.com/go/9040949adab28ab9-hooked\n\n\n\nEmail Kimber Stone for  more information:  kimber@rileysarmy.com
X-ALT-DESC;FMTTYPE=text/html:<p>Our ECU Hooked On Riley&rsquo\;s Army Student Organization will participate in the upcoming Orientation Fairs. They will have a total of 62 registered student organizations and 22 club sports! The dates are:&nbsp\; June 13th\, 15th\, 20th\, 22th\, 27th\, 29th\, July 11th\, 13th.</p>\n\n<ul>\n	<li>&nbsp\;&nbsp\;&nbsp\;&nbsp\;&nbsp\;&nbsp\;&nbsp\;&nbsp\; Please check-in no later than 4:45 p.m.</li>\n	<li>&nbsp\;&nbsp\;&nbsp\;&nbsp\;&nbsp\;&nbsp\;&nbsp\;&nbsp\; You must be in attendance the entire time &ndash\; 5:00pm to 7:00pm.\n	<ul>\n		<li>&nbsp\;&nbsp\; The event is starting earlier this year\, but we will still have thousands of parents and students coming in that may not be able to make it to our table until just before the session closes.</li>\n	</ul>\n	</li>\n	<li>&nbsp\;&nbsp\;&nbsp\;&nbsp\;&nbsp\;&nbsp\;&nbsp\;&nbsp\; All organizations will be sharing a table AND will be grouped by organization category.\n	<ul>\n		<li>&nbsp\;&nbsp\; As an example\, all Office of Greek Life organizations (IFC\, PHC\, MGC\, and NPHC) will be sharing tables and all Religious/Faith based organizations will be sharing a table. Using hundreds of other institutions as an example this was praised by parents and students last year and we hope for the same feedback this summer.</li>\n	</ul>\n	</li>\n</ul>\n\n<p>There will be 2 volunteers per session needed.&nbsp\; We will raise awareness of Hooked On RA\, hand out flyers\, sign up volunteers\, and give away freebies.</p>\n\n<p>We hope to have a number of new volunteers and students interested in our wonderful organization!&nbsp\;<br />\n<br />\nPlease sign up here:&nbsp\;&nbsp\;<br />\n<span style="color:#7030A0">http://www.signupgenius.com/go/9040949adab28ab9-hooked<br />\n<br />\nEmail Kimber Stone for &nbsp\;more information: &nbsp\;kimber@rileysarmy.</span><span style="background-color:rgb(255\, 255\, 255)\; color:rgb(51\, 51\, 51)\; font-family:sans-serif\,arial\,verdana\,trebuchet ms\; font-size:13px">com</span></p>\n
LOCATION:
UID:e.840.4902
SEQUENCE:3
DTSTAMP:20260424T065734Z
URL:https://business.greenvillenc.org/events/details/volunteers-needed-for-riley-s-army-06-13-2016-4902
END:VEVENT

END:VCALENDAR
