BEGIN:VCALENDAR
VERSION:2.0
PRODID:-//ChamberMaster//Event Calendar 2.0//EN
METHOD:PUBLISH
X-PUBLISHED-TTL:P3D
REFRESH-INTERVAL:P3D
CALSCALE:GREGORIAN
BEGIN:VEVENT
DTSTART:20161008T140000Z
DTEND:20161008T180000Z
X-MICROSOFT-CDO-ALLDAYEVENT:FALSE
SUMMARY:Village Family Day
DESCRIPTION:Bring a chair and sit a spell.\n\nMusic (11 a.m. -1 p.m.)   Old-timey crafts and games   Prizes   Re-enactors\n\nVintage Cars Village Tours Food Vendors \n\nAdmission $3 (5 yrs. and younger free). Donations used for handicapped paving project.
X-ALT-DESC;FMTTYPE=text/html:Bring a chair and sit a spell.<br />\nMusic (11 a.m. -1 p.m.) &bull\; Old-timey crafts and games &bull\; Prizes &bull\; Re-enactors<br />\nVintage Cars&hellip\;Village Tours&hellip\;Food Vendors&hellip\;<br />\nAdmission $3 (5 yrs. and younger free). Donations used for handicapped paving project.
LOCATION:Eastern Carolina Village and Farm Museum 4570 County Home Road Greenville NC 27836
UID:e.840.5873
SEQUENCE:3
DTSTAMP:20260424T022828Z
URL:https://business.greenvillenc.org/events/details/village-family-day-5873
END:VEVENT

END:VCALENDAR
