BEGIN:VCALENDAR
VERSION:2.0
PRODID:-//ChamberMaster//Event Calendar 2.0//EN
METHOD:PUBLISH
X-PUBLISHED-TTL:P3D
REFRESH-INTERVAL:P3D
CALSCALE:GREGORIAN
BEGIN:VEVENT
DTSTART:20161211T190000Z
DTEND:20161211T210000Z
X-MICROSOFT-CDO-ALLDAYEVENT:FALSE
SUMMARY:Vidant's Service League of Greenville Inpatient Hospice House "Cookies with Santa"
DESCRIPTION:The Vidant Home Health and Hospice staff invite your and your family to stop by our house and enjoy a holiday celebration. Come and have cookies with Santa.  Santa and his elves will be at the Vidant's Service League of Greenville Inpatient Hospice House. Enjoy the festivities\, meet the staff\, take a tour\, then enjoy cookies and milk with Santa. You can even have your picture taken with the jolly ole man!\n\n\n\nDon't forget your camera!
X-ALT-DESC;FMTTYPE=text/html:The Vidant Home Health and Hospice staff invite your and your family to stop by our house and enjoy a holiday celebration. Come and have cookies with Santa.&nbsp\; Santa and his elves will be at the Vidant&#39\;s Service League of Greenville Inpatient Hospice House. Enjoy the festivities\, meet the staff\, take a tour\, then enjoy cookies and milk with Santa. You can even&nbsp\;have your picture taken with the jolly ole man!<br />\n<br />\nDon&#39\;t forget your camera!<br />\n&nbsp\;
LOCATION:Vidant's Service League of Greenville Inpatient Hospice House 920 Wellness Center Drive Greenville\, NC 27834
UID:e.840.7704
SEQUENCE:3
DTSTAMP:20260423T223925Z
URL:https://business.greenvillenc.org/events/details/vidant-s-service-league-of-greenville-inpatient-hospice-house-cookies-with-santa-7704
END:VEVENT

END:VCALENDAR
