BEGIN:VCALENDAR
VERSION:2.0
PRODID:-//ChamberMaster//Event Calendar 2.0//EN
METHOD:PUBLISH
X-PUBLISHED-TTL:P3D
REFRESH-INTERVAL:P3D
CALSCALE:GREGORIAN
BEGIN:VEVENT
DTSTART:20181115T140000Z
DTEND:20181115T180000Z
X-MICROSOFT-CDO-ALLDAYEVENT:FALSE
SUMMARY:Veteran Hiring Event
DESCRIPTION:NCWorks Career Center is hosting a Hiring Event to connect local veterans with local businesses that are looking to hire. \n\n \n\nAll Job Seekers are welcome. Bring your resume and be prepared to meet with Company Representatives and Recruiters.
X-ALT-DESC;FMTTYPE=text/html:<span style="font-size:11pt"><span style="font-family:times new roman"><span style="color:rgb(33\, 33\, 32)">NCWorks Career Center is hosting a Hiring Event to connect local veterans with local businesses that are looking to hire. </span></span></span><br />\n&nbsp\;<br />\n<span style="font-family:times new roman"><span style="color:rgb(33\, 33\, 32)"><strong><span style="font-size:11pt">All Job Seekers are welcome</span></strong><span style="font-size:11pt">. Bring your resume and be prepared to meet with Company Representatives and Recruiters. </span></span></span><br />\n&nbsp\;<br />\n&nbsp\;
LOCATION:American Legion Post 39 403 Saint Andrews Street Greenville\, NC
UID:e.840.8926
SEQUENCE:3
DTSTAMP:20260421T000819Z
URL:https://business.greenvillenc.org/events/details/veteran-hiring-event-8926
END:VEVENT

END:VCALENDAR
