BEGIN:VCALENDAR
VERSION:2.0
PRODID:-//ChamberMaster//Event Calendar 2.0//EN
METHOD:PUBLISH
X-PUBLISHED-TTL:P3D
REFRESH-INTERVAL:P3D
CALSCALE:GREGORIAN
BEGIN:VEVENT
DTSTART:20160214T223000Z
DTEND:20160215T030000Z
X-MICROSOFT-CDO-ALLDAYEVENT:FALSE
SUMMARY:Valentine's Day Dinner at Crave
DESCRIPTION:Log onto cravegreenville.com to purschase your tickets and reserve your time.
X-ALT-DESC;FMTTYPE=text/html:Log onto cravegreenville.com to purschase your tickets and reserve your time.
LOCATION:
UID:e.840.2452
SEQUENCE:3
DTSTAMP:20260424T132957Z
URL:https://business.greenvillenc.org/events/details/valentine-s-day-dinner-at-crave-02-14-2016-2452
END:VEVENT

END:VCALENDAR
