BEGIN:VCALENDAR
VERSION:2.0
PRODID:-//ChamberMaster//Event Calendar 2.0//EN
METHOD:PUBLISH
X-PUBLISHED-TTL:P3D
REFRESH-INTERVAL:P3D
CALSCALE:GREGORIAN
BEGIN:VEVENT
DTSTART;VALUE=DATE:20180214
DTEND;VALUE=DATE:20180215
TRANSP:TRANSPARENT
X-MICROSOFT-CDO-ALLDAYEVENT:TRUE
SUMMARY:Valentine’s at Famiglia
DESCRIPTION:Valentines at Famiglia\n\n \n\n4 course menu including bottle of wine- $80 per couple (just cork it if you'd like to bring it home!) OR\n\n \n\n4 course menu without wine- $70 per couple\n\n \n\nAppetizers \n\nChoose 1 of following:\n\n\n	Oysters Rockafeller\n	Roasted Almond & Brie\n	Sundried Tomato & Olive Bruschetta  P.S.\, if you were at our last wine tasting\, we featured this dish! \n\n\n \n\nFirst Course\n\n \n\n\n	Caprese Salad \n	Citrus Salad \n	Pasta Salad Primavera\n\n\n \n\nMain Course \n\n \n\n\n	Stuffed Chicken\n	Prime Ribeye \n	Seafood Lasagna \n\n\n \n\nDesserts\n\nChoose one of the following:\n\n\n	Tiramisu\n	Strawberry Cheesecake\n	Chocolate Mousse
X-ALT-DESC;FMTTYPE=text/html:<p><span style="font-family:.sfuitext\; font-size:17pt">Valentines at Famiglia</span></p>\n\n<p>&nbsp\;</p>\n\n<p><span style="font-family:.sfuitext\; font-size:17pt">4 course menu including bottle of wine- $80 per couple (just cork it if you&rsquo\;d like to bring it home!) OR</span></p>\n\n<p>&nbsp\;</p>\n\n<p><span style="font-family:.sfuitext\; font-size:17pt">4 course menu without wine- $70 per couple</span></p>\n\n<p>&nbsp\;</p>\n\n<p><u>Appetizers</u><strong>&nbsp\;</strong></p>\n\n<p><span style="font-family:.sfuitext\; font-size:17pt">Choose 1 of following:</span></p>\n\n<ul>\n	<li><span style="font-family:.sfuitext\; font-size:17pt">Oysters Rockafeller</span></li>\n	<li><span style="font-family:.sfuitext\; font-size:17pt">Roasted Almond &amp\; Brie</span></li>\n	<li><span style="font-family:.sfuitext\; font-size:17pt">Sundried Tomato &amp\; Olive Bruschetta&mdash\; P.S.\, if you were at our last wine tasting\, we featured this dish!&nbsp\;</span></li>\n</ul>\n\n<p>&nbsp\;</p>\n\n<p><u>First Course</u></p>\n\n<p>&nbsp\;</p>\n\n<ul>\n	<li><span style="font-family:.sfuitext\; font-size:17pt">Caprese Salad&nbsp\;</span></li>\n	<li><span style="font-family:.sfuitext\; font-size:17pt">Citrus Salad&nbsp\;</span></li>\n	<li><span style="font-family:.sfuitext\; font-size:17pt">Pasta Salad Primavera</span></li>\n</ul>\n\n<p>&nbsp\;</p>\n\n<p><u>Main Course&nbsp\;</u></p>\n\n<p>&nbsp\;</p>\n\n<ul>\n	<li><span style="font-family:.sfuitext\; font-size:17pt">Stuffed Chicken</span></li>\n	<li><span style="font-family:.sfuitext\; font-size:17pt">Prime Ribeye&nbsp\;</span></li>\n	<li><span style="font-family:.sfuitext\; font-size:17pt">Seafood Lasagna&nbsp\;</span></li>\n</ul>\n\n<p>&nbsp\;</p>\n\n<p><u>Desserts</u></p>\n\n<p><span style="font-family:.sfuitext\; font-size:17pt">Choose one of the following:</span></p>\n\n<ul>\n	<li><span style="font-family:.sfuitext\; font-size:17pt">Tiramisu</span></li>\n	<li><span style="font-family:.sfuitext\; font-size:17pt">Strawberry Cheesecake</span></li>\n	<li><span style="font-family:.sfuitext\; font-size:17pt">Chocolate Mousse&nbsp\;</span></li>\n</ul>\n
LOCATION:Famiglia 740 W Fire Tower Rd Winterville\, NC Near PCC and next to Meineke\, across from San Jones BBQ
UID:e.840.8721
SEQUENCE:3
DTSTAMP:20260423T015654Z
URL:https://business.greenvillenc.org/events/details/valentine-s-at-famiglia-8721
END:VEVENT

END:VCALENDAR
