BEGIN:VCALENDAR
VERSION:2.0
PRODID:-//ChamberMaster//Event Calendar 2.0//EN
METHOD:PUBLISH
X-PUBLISHED-TTL:P3D
REFRESH-INTERVAL:P3D
CALSCALE:GREGORIAN
BEGIN:VEVENT
DTSTART:20170812T160000Z
DTEND:20170812T200000Z
X-MICROSOFT-CDO-ALLDAYEVENT:FALSE
SUMMARY:Uptown Craft and Vendor Market
DESCRIPTION:Join us for an afternoon of all things local! Enjoy shopping with a variety of local crafters and small businesses in one of Greenville's newest breweries. We will also have local author Ashley Norris signing her new children's book "Queenie Wahine - Little Surfer Girl"! We can't wait to see you!
X-ALT-DESC;FMTTYPE=text/html:<span style="color:rgb(75\, 79\, 86)\; font-family:helvetica\,arial\,sans-serif\; font-size:14px">Join us for an afternoon of all things local! Enjoy shopping with a variety of local crafters and small businesses in one of Greenville&#39\;s newest breweries. We will also have local author Ashley Norris signing her new children&#39\;s book &quot\;Queenie Wahine - Little Surfer Girl&quot\;! We can&#39\;t wait to see you!</span>
LOCATION:Hosted by The Thrifty Gifter at: Uptown Brewing Company | 418 Evans Street\, Greenville NC 27858
UID:e.840.8496
SEQUENCE:3
DTSTAMP:20260423T110139Z
URL:https://business.greenvillenc.org/events/details/uptown-craft-and-vendor-market-8496
END:VEVENT

END:VCALENDAR
