BEGIN:VCALENDAR
VERSION:2.0
PRODID:-//ChamberMaster//Event Calendar 2.0//EN
METHOD:PUBLISH
X-PUBLISHED-TTL:P3D
REFRESH-INTERVAL:P3D
CALSCALE:GREGORIAN
BEGIN:VEVENT
DTSTART:20171125T170000Z
DTEND:20171125T210000Z
X-MICROSOFT-CDO-ALLDAYEVENT:FALSE
SUMMARY:Uptown Craft and Vendor Market
DESCRIPTION:Join us on Small Business Saturday\, November 25th from 12 p.m. - 4 p.m. and celebrate shopping small and supporting local! You will enjoy browsing a variety of North Carolina handmade shops and delicious craft beer in the fabulous atmosphere that Uptown Brewing Company has to offer! We also have word from the North Pole that Santa and Mrs. Claus will be joining us\, so bring the family!
X-ALT-DESC;FMTTYPE=text/html:<span style="color:rgb(75\, 79\, 86)\; font-family:helvetica\,arial\,sans-serif\; font-size:14px">Join us on Small Business Saturday\, November 25th from 12 p.m. - 4 p.m. and celebrate shopping small and supporting local! You will enjoy browsing a variety of North Carolina handmade shops and delicious craft beer in the fabulous atmosphere that Uptown Brewing Company has to offer! We also have word from the North Pole that Santa and Mrs. Claus will be joining us\, so bring the family!&nbsp\;</span>
LOCATION:Uptown Brewing Company | 418 Evans St\, Greenville\, NC 27858
UID:e.840.8654
SEQUENCE:3
DTSTAMP:20260423T063202Z
URL:https://business.greenvillenc.org/events/details/uptown-craft-and-vendor-market-11-25-2017-8654
END:VEVENT

END:VCALENDAR
