BEGIN:VCALENDAR
VERSION:2.0
PRODID:-//ChamberMaster//Event Calendar 2.0//EN
METHOD:PUBLISH
X-PUBLISHED-TTL:P3D
REFRESH-INTERVAL:P3D
CALSCALE:GREGORIAN
BEGIN:VEVENT
DTSTART:20161003T230000Z
DTEND:20161004T003000Z
X-MICROSOFT-CDO-ALLDAYEVENT:FALSE
SUMMARY:United States Marine Band "The President's Own"
DESCRIPTION:East Carolina University's S. Rudolph Alexander Performing Arts Series presents the best band in the world (Washington Post) in Wright Auditorium. They sold out their last visit to Greenville. "The President's Own" began touring in 1891 under the leadership of John Phillips Sousa. Expect virtuosity and a varied program\, anchored by a Sousa piece\, or two. Tickets are free\, but required. They will be available no later than September 1 at marineband.ticketleap.com. General admission seating. Parking enforcement is relaxed on ECU's campus for this event.
X-ALT-DESC;FMTTYPE=text/html:<p><span style="font-family:gotham\; font-size:8.5px">East Carolina University&#39\;s S. Rudolph Alexander Performing Arts Series presents the best band in the world (<em>Washington Post</em>) in Wright Auditorium. They sold out their last visit to Greenville. &quot\;The President&#39\;s Own&quot\; began touring in 1891 under the leadership of John Phillips Sousa. Expect virtuosity and a varied program\, anchored by a Sousa piece\, or two. Tickets are free\, but required. They will be available no later than September 1 at marineband.ticketleap.com. General admission seating. Parking enforcement is relaxed on ECU&#39\;s campus for this event.</span></p>\n
LOCATION:Wright Auditorium
UID:e.840.2671
SEQUENCE:3
DTSTAMP:20260424T011127Z
URL:https://business.greenvillenc.org/events/details/united-states-marine-band-the-president-s-own-10-03-2016-2671
END:VEVENT

END:VCALENDAR
