BEGIN:VCALENDAR
VERSION:2.0
PRODID:-//ChamberMaster//Event Calendar 2.0//EN
METHOD:PUBLISH
X-PUBLISHED-TTL:P3D
REFRESH-INTERVAL:P3D
CALSCALE:GREGORIAN
BEGIN:VEVENT
DTSTART:20171209T010000Z
DTEND:20171209T045500Z
X-MICROSOFT-CDO-ALLDAYEVENT:FALSE
SUMMARY:Ugly Sweater Jingle Bell Bash: Featuring Anthem Lights
DESCRIPTION:From multiple national tours\, numerous top 10 radio singles\, a #1 iTunes charting single\, and their ubiquitous social media presence\, the music of Anthem Lights has impacted millions around the globe with their original songs\, covers\, and medleys. Join Anthem Lights for the premier Holiday Concert in Eastern Carolina\, benefiting the community programs of Mental Health America of Eastern Carolina. \n\n\n\nSilent Auction | Cash Bar | DJ | Ugly Sweater Contest\nPresenting Sponsors: \nHoliday Inn | WRNS 95.1 | BOB 93.3
X-ALT-DESC;FMTTYPE=text/html:<span style="font-size:12px"><span style="font-family:advent pro\,sans-serif">From multiple national tours\, numerous top 10 radio singles\, a #1 iTunes charting single\, and their ubiquitous social media presence\, the music of Anthem Lights has impacted millions around the globe with their original songs\, covers\, and medleys. Join Anthem Lights for the premier Holiday Concert in Eastern Carolina\, benefiting the community programs of Mental Health America of Eastern Carolina.&nbsp\;</span><br />\n<br />\n<span style="font-family:advent pro\,sans-serif">Silent Auction | Cash Bar | DJ | Ugly Sweater Contest</span></span>\n<h4><span style="font-size:12px">Presenting Sponsors:&nbsp\;</span></h4>\n<span style="font-size:12px">Holiday Inn | WRNS 95.1 | BOB 93.3</span>
LOCATION:Holiday Inn\, Greenville 203 Greenville Blvd\, SW. Greenville\, NC 27834
UID:e.840.8648
SEQUENCE:3
DTSTAMP:20260423T045649Z
URL:https://business.greenvillenc.org/events/details/ugly-sweater-jingle-bell-bash-featuring-anthem-lights-8648
END:VEVENT

END:VCALENDAR
