BEGIN:VCALENDAR
VERSION:2.0
PRODID:-//ChamberMaster//Event Calendar 2.0//EN
METHOD:PUBLISH
X-PUBLISHED-TTL:P3D
REFRESH-INTERVAL:P3D
CALSCALE:GREGORIAN
BEGIN:VEVENT
DTSTART;VALUE=DATE:20190411
DTEND;VALUE=DATE:20190412
TRANSP:TRANSPARENT
X-MICROSOFT-CDO-ALLDAYEVENT:TRUE
SUMMARY:Turn Back Time- Beauty Bar Medispa Birthday Party
DESCRIPTION:Come celebrate Beauty Bar Medispa's Birthday! Deals THIS THURSDAY April 11 from 8am-5pm only.
X-ALT-DESC;FMTTYPE=text/html:Come celebrate Beauty Bar Medispa&#39\;s Birthday! Deals THIS THURSDAY April 11 from 8am-5pm only.
LOCATION:1021 Red Banks Rd Greenville\, NC 27858
UID:e.840.10040
SEQUENCE:3
DTSTAMP:20260420T191305Z
URL:https://business.greenvillenc.org/events/details/turn-back-time-beauty-bar-medispa-birthday-party-10040
END:VEVENT

END:VCALENDAR
