BEGIN:VCALENDAR
VERSION:2.0
PRODID:-//ChamberMaster//Event Calendar 2.0//EN
METHOD:PUBLISH
X-PUBLISHED-TTL:P3D
REFRESH-INTERVAL:P3D
CALSCALE:GREGORIAN
BEGIN:VEVENT
DTSTART:20180922T140000Z
DTEND:20180922T220000Z
X-MICROSOFT-CDO-ALLDAYEVENT:FALSE
SUMMARY:Trucking For Miracles
DESCRIPTION:Join us for Trucking for Miracles! \n\n\n\nSeptember 22\, 2018 at the Sam's Club parking lot in Winterville\, NC. From 10AM to 6PM come and enjoy various food trucks to raise money for Children's Miracle Network at James and Connie Maynard Children's Hospital at Vidant Health.
X-ALT-DESC;FMTTYPE=text/html:Join us for Trucking for Miracles!&nbsp\;<br />\n<br />\nSeptember 22\, 2018 at the Sam&#39\;s Club parking lot in Winterville\, NC. From 10AM to 6PM come and enjoy various food trucks to raise money for Children&#39\;s Miracle Network at James and Connie Maynard Children&#39\;s Hospital at Vidant Health.&nbsp\;
LOCATION:Sam's Club parking lot 4240 Winterville Pkwy Winterville\, NC 28590
UID:e.840.8923
SEQUENCE:3
DTSTAMP:20260421T031410Z
URL:https://business.greenvillenc.org/events/details/trucking-for-miracles-8923
END:VEVENT

END:VCALENDAR
