BEGIN:VCALENDAR
VERSION:2.0
PRODID:-//ChamberMaster//Event Calendar 2.0//EN
METHOD:PUBLISH
X-PUBLISHED-TTL:P3D
REFRESH-INTERVAL:P3D
CALSCALE:GREGORIAN
BEGIN:VEVENT
DTSTART:20180603T040000Z
DTEND:20180608T040000Z
X-MICROSOFT-CDO-ALLDAYEVENT:FALSE
SUMMARY:Trip to New Orleans
DESCRIPTION:The Pitt County Senior Center invites you to join us on a 6 day 5 night trip to New Orleans June 3-8\, 2018. Travel by deluxe motor coach and visit the historic French Quarter\, dine at the New Orleans School of Cooking\, visit an old fashioned Louisiana Plantation\, cruise the Mississippi on an authentic steamboat\, and more. Price starts at $839 per person. For details and to register\, call Lori Cortright\, 252-752-1717\, x13. Deadline to register is April 15\, 2018.
X-ALT-DESC;FMTTYPE=text/html:The Pitt County Senior Center invites you to join us on a 6 day 5 night trip to New Orleans June 3-8\, 2018. Travel by deluxe motor coach and visit the historic French Quarter\, dine at the New Orleans School of Cooking\, visit an old fashioned Louisiana Plantation\, cruise the Mississippi on an authentic steamboat\, and more. Price starts at $839 per person. For details and to register\, call Lori Cortright\, 252-752-1717\, x13. Deadline to register is April 15\, 2018.
LOCATION:
UID:e.840.8739
SEQUENCE:3
DTSTAMP:20260421T074703Z
URL:https://business.greenvillenc.org/events/details/trip-to-new-orleans-8739
END:VEVENT

END:VCALENDAR
