BEGIN:VCALENDAR
VERSION:2.0
PRODID:-//ChamberMaster//Event Calendar 2.0//EN
METHOD:PUBLISH
X-PUBLISHED-TTL:P3D
REFRESH-INTERVAL:P3D
CALSCALE:GREGORIAN
BEGIN:VEVENT
DTSTART:20191203T230000Z
DTEND:20191203T233000Z
X-MICROSOFT-CDO-ALLDAYEVENT:FALSE
SUMMARY:Tree Lighting Ceremony-Relay For Life of Pitt County
DESCRIPTION:Relay For Life of Pitt County\n\npresents\n\nA Tree of Hope\n\n\n\nOrnaments will be available for purchase\n\nNovember 4\, 2019-December 2\,2019.\n\nSilver Angel:$15\n\nGold Angel:$20\n\nPurple Crystal:$25\n\n\n\nIf you would like to dedicate an ornament\, please contact\n\nTeyonna Nixon at (252) 695-9081 or Teyonna.Nixon@cancer.org.\n\nOrnaments can also be purchased at the McConnell-Raab Hope Lodge.
X-ALT-DESC;FMTTYPE=text/html:<div style="text-align: center\;"><span style="font-size:18px"><strong>Relay For Life of Pitt County<br />\npresents<br />\nA Tree of Hope</strong><br />\n<br />\nOrnaments will be available for purchase<br />\nNovember 4\, 2019-December 2\,2019.<br />\n<strong>Silver Angel:$15<br />\nGold Angel:$20<br />\nPurple Crystal:$25</strong><br />\n<br />\nIf you would like to dedicate an ornament\, please contact<br />\nTeyonna Nixon at <a href="tel:(252) 695-9081">(252) 695-9081</a> or Teyonna.Nixon@cancer.org.<br />\nOrnaments can also be purchased at the McConnell-Raab Hope Lodge.</span><br />\n&nbsp\;</div>\n
LOCATION:MCCONNELL-RAAB HOPE LODGE 930-B WELLNESS DRIVE\, GREENVILLE\, NC 27834
UID:e.840.10959
SEQUENCE:3
DTSTAMP:20260420T061310Z
URL:https://business.greenvillenc.org/events/details/tree-lighting-ceremony-relay-for-life-of-pitt-county-10959
END:VEVENT

END:VCALENDAR
