BEGIN:VCALENDAR
VERSION:2.0
PRODID:-//ChamberMaster//Event Calendar 2.0//EN
METHOD:PUBLISH
X-PUBLISHED-TTL:P3D
REFRESH-INTERVAL:P3D
CALSCALE:GREGORIAN
BEGIN:VEVENT
DTSTART:20171104T160000Z
DTEND:20171104T180000Z
X-MICROSOFT-CDO-ALLDAYEVENT:FALSE
SUMMARY:Treasured Brews Tour: Uptown Brewing Company
DESCRIPTION:Join fellow alumni and friends as we raise a glass and watch ECU Football and continue our new Treasured Brews Tour at the new Treasured Brews Tour event at Uptown Brewing Company in Greenville\, NC! Each guest will receive a commemorative Treasured Brews Tour beer glass\, guided brewery tour\, a flight of beer\, a chance to win great door prizes\, and a front row seat to multiple big screens for the ECU football game. Space is limited so please RSVP. Don't forget to wear your PURPLE and GOLD!\n\n\n\nRegister today!!
X-ALT-DESC;FMTTYPE=text/html:<p><span style="font-size:14px"><span style="font-family:verdana"><span style="color:rgb(0\, 0\, 0)">Join fellow alumni and friends as we raise a glass and watch ECU Football and continue our new Treasured Brews Tour at the new&nbsp\;</span><span style="color:rgb(72\, 42\, 127)"><strong>Treasured Brews Tour</strong></span><span style="color:rgb(0\, 0\, 0)">&nbsp\;event at Uptown Brewing Company in Greenville\, NC!&nbsp\;Each guest will receive a commemorative Treasured Brews Tour beer glass\, guided brewery tour\, a flight of beer\, a chance to win great door prizes\, and a front row seat to multiple big screens for the ECU football game. Space is limited so please RSVP.&nbsp\;Don&#39\;t forget to wear your&nbsp\;</span><strong><span style="color:rgb(72\, 42\, 127)">PURPLE</span></strong><span style="color:rgb(0\, 0\, 0)">&nbsp\;and&nbsp\;</span><strong><span style="color:rgb(240\, 195\, 59)">GOLD</span></strong><span style="color:rgb(0\, 0\, 0)">!</span><br />\n<br />\n<span style="color:592A8A"><strong>Register today!!</strong></span></span></span></p>\n
LOCATION:Uptown Brewing Company 418 Evans Street Greenville\, NC 27858
UID:e.840.8675
SEQUENCE:3
DTSTAMP:20260423T062958Z
URL:https://business.greenvillenc.org/events/details/treasured-brews-tour-uptown-brewing-company-8675
END:VEVENT

END:VCALENDAR
