BEGIN:VCALENDAR
VERSION:2.0
PRODID:-//ChamberMaster//Event Calendar 2.0//EN
METHOD:PUBLISH
X-PUBLISHED-TTL:P3D
REFRESH-INTERVAL:P3D
CALSCALE:GREGORIAN
BEGIN:VEVENT
DTSTART:20170121T030000Z
DTEND:20170121T050000Z
X-MICROSOFT-CDO-ALLDAYEVENT:FALSE
SUMMARY:Trainwreck takes over Fire American Tavern
DESCRIPTION:Hot Party Band Takes over Fire American Tavern to kick off our Live Entertainment Series
X-ALT-DESC;FMTTYPE=text/html:Hot Party Band Takes over Fire American Tavern to kick off our Live Entertainment Series&nbsp\;
LOCATION:113 E. 5th Street.
UID:e.840.7801
SEQUENCE:3
DTSTAMP:20260423T211449Z
URL:https://business.greenvillenc.org/events/details/trainwreck-takes-over-fire-american-tavern-7801
END:VEVENT

END:VCALENDAR
