BEGIN:VCALENDAR
VERSION:2.0
PRODID:-//ChamberMaster//Event Calendar 2.0//EN
METHOD:PUBLISH
X-PUBLISHED-TTL:P3D
REFRESH-INTERVAL:P3D
CALSCALE:GREGORIAN
BEGIN:VEVENT
DTSTART:20180223T233000Z
DTEND:20180224T020000Z
X-MICROSOFT-CDO-ALLDAYEVENT:FALSE
SUMMARY:TrainWreck and JPII Project Band Concert
DESCRIPTION:6:30 p.m.: Doors Open\n\n7:00-7:30 p.m.: JPII Project Band \n\n7:30-8:30 p.m.: TrainWreck \n\n8:30-9:00 p.m.: Both Bands\n\n\n\nAdmission (pay at the door):\n\n$10 for 19 and older\n\n$5 for ages 6-18\n\nFREE for ages 5 and younger and JPII students
X-ALT-DESC;FMTTYPE=text/html:<span style="color:rgb(75\, 79\, 86)\; font-family:sf optimized\,system-ui\,-apple-system\,system-ui\,.sfnstext-regular\,sans-serif\; font-size:14px">6:30 p.m.: Doors Open</span><br />\n<span style="color:rgb(75\, 79\, 86)\; font-family:sf optimized\,system-ui\,-apple-system\,system-ui\,.sfnstext-regular\,sans-serif\; font-size:14px">7:00-7:30 p.m.: JPII Project Band&nbsp\;</span><br />\n<span style="color:rgb(75\, 79\, 86)\; font-family:sf optimized\,system-ui\,-apple-system\,system-ui\,.sfnstext-regular\,sans-serif\; font-size:14px">7:30-8:30 p.m.: TrainWreck&nbsp\;</span><br />\n<span style="color:rgb(75\, 79\, 86)\; font-family:sf optimized\,system-ui\,-apple-system\,system-ui\,.sfnstext-regular\,sans-serif\; font-size:14px">8:30-9:00 p.m.: Both Bands</span><br />\n<br />\n<span style="color:rgb(75\, 79\, 86)\; font-family:sf optimized\,system-ui\,-apple-system\,system-ui\,.sfnstext-regular\,sans-serif\; font-size:14px">Admission (pay at the door):</span><br />\n<span style="color:rgb(75\, 79\, 86)\; font-family:sf optimized\,system-ui\,-apple-system\,system-ui\,.sfnstext-regular\,sans-serif\; font-size:14px">$10 for 19 and older</span><br />\n<span style="color:rgb(75\, 79\, 86)\; font-family:sf optimized\,system-ui\,-apple-system\,system-ui\,.sfnstext-regular\,sans-serif\; font-size:14px">$5 for ages 6-18</span><br />\n<span style="color:rgb(75\, 79\, 86)\; font-family:sf optimized\,system-ui\,-apple-system\,system-ui\,.sfnstext-regular\,sans-serif\; font-size:14px">FREE for ages 5 and younger and JPII students</span>
LOCATION:John Paul II Catholic High School Performing Arts Center 2725 E. 14th Street Greenville\, NC 27858
UID:e.840.8720
SEQUENCE:3
DTSTAMP:20260423T015427Z
URL:https://business.greenvillenc.org/events/details/trainwreck-and-jpii-project-band-concert-8720
END:VEVENT

END:VCALENDAR
