BEGIN:VCALENDAR
VERSION:2.0
PRODID:-//ChamberMaster//Event Calendar 2.0//EN
METHOD:PUBLISH
X-PUBLISHED-TTL:P3D
REFRESH-INTERVAL:P3D
CALSCALE:GREGORIAN
BEGIN:VEVENT
DTSTART;VALUE=DATE:20160707
DTEND;VALUE=DATE:20160813
TRANSP:TRANSPARENT
X-MICROSOFT-CDO-ALLDAYEVENT:TRUE
SUMMARY:TPSA Upcoming Events
DESCRIPTION:Here is a list of some of our upcoming events. Please feel free to contact us at 252-756-2500 for more info.
X-ALT-DESC;FMTTYPE=text/html:Here is a list of some of our upcoming events. Please feel free to contact us at 252-756-2500 for more info.
LOCATION:4801 Reedy Branch Rd Winterville\, NC 28590
UID:e.840.5321
SEQUENCE:3
DTSTAMP:20260424T035446Z
URL:https://business.greenvillenc.org/events/details/tpsa-upcoming-events-07-07-2016-5321
END:VEVENT

END:VCALENDAR
