BEGIN:VCALENDAR
VERSION:2.0
PRODID:-//ChamberMaster//Event Calendar 2.0//EN
METHOD:PUBLISH
X-PUBLISHED-TTL:P3D
REFRESH-INTERVAL:P3D
CALSCALE:GREGORIAN
BEGIN:VEVENT
DTSTART:20181120T150000Z
DTEND:20181120T190000Z
X-MICROSOFT-CDO-ALLDAYEVENT:FALSE
SUMMARY:Tour for Turkey
DESCRIPTION:Join Brookdale Dickinson for their Tour for Turkey Event! \nCome by our community for our annual Tour for Turkey event. Join us for a festive tour showcasing all of the senior living options we offer. See old friends and make new ones\, all while celebrating the season. Come see why our residents love it here\, and take a turkey* home just for dropping by. \n\n\n\nRSVP to cwarth@brookdale.com or 252-801-6782 to ensure we have a turkey available for you! Let us know which day and time works best for you between 10am and 2 pm November 16th-20th.
X-ALT-DESC;FMTTYPE=text/html:<span style="font-size:16px"><span style="font-family:comic sans ms"><strong><span style="color:rgb(165\, 42\, 42)">Join Brookdale Dickinson for their Tour for Turkey Event!</span> </strong></span></span>\n<p><span style="color:rgb(0\, 128\, 0)"><span style="font-size:16px"><span style="font-family:comic sans ms"><strong>Come by our community for our annual Tour for Turkey event. Join us for a festive tour showcasing all of the senior living options we offer. See old friends and make new ones\, all while celebrating the season.&nbsp\;Come see why our residents love it here\, and take a turkey* home just for dropping by. </strong></span></span></span><br />\n<br />\n<strong><span style="font-size:18px"><span style="background-color:rgb(255\, 255\, 0)">RSVP to </span><a href="mailto:cwarth@brookdale.com"><span style="background-color:rgb(255\, 255\, 0)">cwarth@brookdale.com</span></a><span style="background-color:rgb(255\, 255\, 0)"> or 252-801-6782 to ensure we have a turkey available for you! Let us know which day and time works best for you between 10am and 2 pm November 16th-20th</span>. </span></strong></p>\n
LOCATION:Brookdale Dickinson Avenue 2715 Dickinson Avenue Greenville\, NC If you are driving towards the hospital on W. Arlington take a left onto Dickinson Avenue at the light and we are first business on the left!
UID:e.840.8945
SEQUENCE:3
DTSTAMP:20260421T013316Z
URL:https://business.greenvillenc.org/events/details/tour-for-turkey-11-20-2018-8945
END:VEVENT

END:VCALENDAR
