BEGIN:VCALENDAR
VERSION:2.0
PRODID:-//ChamberMaster//Event Calendar 2.0//EN
METHOD:PUBLISH
X-PUBLISHED-TTL:P3D
REFRESH-INTERVAL:P3D
CALSCALE:GREGORIAN
BEGIN:VEVENT
DTSTART:20170202T220000Z
DTEND:20170203T020000Z
X-MICROSOFT-CDO-ALLDAYEVENT:FALSE
SUMMARY:Tiny Art Show Pancake Dinner & Preview Sale
DESCRIPTION:Enjoy an all-you-can-eat supper of pancakes\, french toast\, sausage\, desserts\, mimosas\, coffee and more\, while supporting a great cause! Get in early to preview and buy from the Tiny Art Show! Most art will be $5 & $10! Painting\, drawing\, sculpture\, ceramics\, jewelry\, and more! Tiny art for a tiny price! Proceeds Benefit PCAC Educational Scholarship & Outreach Programs Learn more about our Educational Scholarship & Outreach offerings by visiting www.pittcountyarts.org!
X-ALT-DESC;FMTTYPE=text/html:Enjoy an all-you-can-eat supper of pancakes\, french toast\, sausage\, desserts\, mimosas\, coffee and more\, while supporting a great cause! Get in early to preview and buy from the Tiny Art Show! Most art will be $5 &amp\; $10! Painting\, drawing\, sculpture\, ceramics\, jewelry\, and more! Tiny art for a tiny price! Proceeds Benefit PCAC Educational Scholarship &amp\; Outreach Programs Learn more about our Educational Scholarship &amp\; Outreach offerings by visiting www.pittcountyarts.org!
LOCATION:Pitt County Arts Council at Emerge
UID:e.840.7803
SEQUENCE:3
DTSTAMP:20260423T193530Z
URL:https://business.greenvillenc.org/events/details/tiny-art-show-pancake-dinner-preview-sale-7803
END:VEVENT

END:VCALENDAR
