BEGIN:VCALENDAR
VERSION:2.0
PRODID:-//ChamberMaster//Event Calendar 2.0//EN
METHOD:PUBLISH
X-PUBLISHED-TTL:P3D
REFRESH-INTERVAL:P3D
CALSCALE:GREGORIAN
BEGIN:VEVENT
DTSTART:20191015T160000Z
DTEND:20191015T170000Z
X-MICROSOFT-CDO-ALLDAYEVENT:FALSE
SUMMARY:Third Tuesday Divorce Workshop (Lunch & Learn)
DESCRIPTION:Third Tuesday Divorce Workshop (lunch & learn)\n\n \n\nThe decision to move forward with a divorce is daunting as well as emotional. Many people find themselves stuck as they are unsure of what is to follow. What happens to my financial obligations? Who is going to leave the marital home? And most importantly\, what about the kids? The Third Tuesday Divorce Workshop is designed to help individuals navigate the struggles of divorce. We have built a team of attorneys\, to help you plan and move forward. During this time\, the last thing you should be worrying about is the procedural side of the divorce. Let us ease your mind so you can focus on the positive change that is just around the corner.\n\n\n\nRSVP\n\nPlease email family@c2clawgroup.com to let us know you are interested in attending.\n\n\n\nAGENDA\n\n\n\n12:00-12:15 -- Introduction\n\n\n\n12:30-12:45 -- Presentation by a Divorce Attorney\n\nSEPARATION\n\nNorth Carolina requires you to be separated from your ex-partner for a year before you can file for divorce. But what exactly is separation? Our attorneys are able to answer all your questions regarding when the separation begins\, when it ends\, and what can cause the year-long period to start over. Understanding this process is sure to make the divorce smoother.\n\n\n\nESTATE PLANNING\n\nDon't allow your ex-spouse to remain in control of your new life. Going through a divorce is stressful in itself and updating your estate planning documents is the last thing on your mind. However\, it is important you know the implications of failing to make the needed changes. It is possible to secure your personal assets while still providing your ex-partner with the means to take care of the children should something ever happen to you.\n\n\n\n12:45-1:00 -- Closing Remarks
X-ALT-DESC;FMTTYPE=text/html:<span style="color:#1d2129"><span style="font-family:helvetica\,sans-serif"><span style="font-size:10.5pt">Third Tuesday Divorce Workshop (lunch &amp\; learn)</span></span></span><br />\n&nbsp\;<br />\n<span style="color:#1d2129"><span style="font-family:helvetica\,sans-serif"><span style="font-size:10.5pt">The decision to move forward with a divorce is daunting as well as emotional. Many people find themselves stuck as they are unsure of what is to follow. What happens to my financial obligations? Who is going to leave the marital home? And most importantly\, what about the kids? The Third Tuesday Divorce Workshop is designed to help individuals navigate the struggles of divorce. We have built a team of attorneys\, to help you plan and move forward. During this time\, the last thing you should be worrying about is the procedural side of the divorce. Let us ease your mind so you can focus on the positive change that is just around the corner.</span></span></span><br />\n<br />\n<span style="color:#1D2129"><span style="font-family:helvetica\,sans-serif"><span style="font-size:10.5pt">RSVP<br />\nPlease email <a href="mailto:family@c2clawgroup.com">family@c2clawgroup.com</a> to let us know you are interested in attending.<br />\n<br />\nAGENDA<br />\n<br />\n12:00-12:15 -- Introduction<br />\n<br />\n12:30-12:45 -- Presentation by a Divorce Attorney<br />\nSEPARATION<br />\nNorth Carolina requires you to be separated from your ex-partner for a year before you can file for divorce. But what exactly is separation? Our attorneys are able to answer all your questions regarding when the separation begins\, when it ends\, and what can cause the year-long period to start over. Understanding this process is sure to make the divorce smoother.<br />\n<br />\nESTATE PLANNING<br />\nDon&#39\;t allow your ex-spouse to remain in control of your new life. Going through a divorce is stressful in itself and updating your estate planning documents is the last thing on your mind. However\, it is important you know the implications of failing to make the needed changes. It is possible to secure your personal assets while still providing your ex-partner with the means to take care of the children should something ever happen to you.<br />\n<br />\n12:45-1:00 -- Closing Remarks</span></span></span>
LOCATION:Greenville Office 211 W. 14th St. Suite A Greenville\, NC 27834
UID:e.840.10788
SEQUENCE:3
DTSTAMP:20260420T092316Z
URL:https://business.greenvillenc.org/events/details/third-tuesday-divorce-workshop-lunch-learn-10788
END:VEVENT

END:VCALENDAR
