BEGIN:VCALENDAR
VERSION:2.0
PRODID:-//ChamberMaster//Event Calendar 2.0//EN
METHOD:PUBLISH
X-PUBLISHED-TTL:P3D
REFRESH-INTERVAL:P3D
CALSCALE:GREGORIAN
BEGIN:VEVENT
DTSTART:20190921T123000Z
DTEND:20190921T160000Z
X-MICROSOFT-CDO-ALLDAYEVENT:FALSE
SUMMARY:Third Saturday of Service
DESCRIPTION:Third Saturdays of Service are all about community. We serve\, volunteer\, and show love for each other by rolling up our sleeves and getting our hands dirty together! If you've been looking for a way to meet the people of Third Street and others who have a heart for serving our community\, this is a great place to start. Bring a pair of gloves\, grab a friend\, and come on out!
X-ALT-DESC;FMTTYPE=text/html:<span style="color:rgb(29\, 33\, 41)\; font-family:helvetica\,arial\,sans-serif\; font-size:14px">Third Saturdays of Service are all about community. We serve\, volunteer\, and show love for each other by rolling up our sleeves and getting our hands dirty together! If you&#39\;ve been looking for a way to meet the people of Third Street and others who have a heart for serving our community\, this is a great place to start. Bring a pair of gloves\, grab a friend\, and come on out!</span>
LOCATION:Third Street Education Center 600 W 3rd St\, Greenville\, North Carolina 27834
UID:e.840.10783
SEQUENCE:3
DTSTAMP:20260420T104551Z
URL:https://business.greenvillenc.org/events/details/third-saturday-of-service-10783
END:VEVENT

END:VCALENDAR
