BEGIN:VCALENDAR
VERSION:2.0
PRODID:-//ChamberMaster//Event Calendar 2.0//EN
METHOD:PUBLISH
X-PUBLISHED-TTL:P3D
REFRESH-INTERVAL:P3D
CALSCALE:GREGORIAN
BEGIN:VEVENT
DTSTART:20170225T000000Z
DTEND:20170225T010000Z
X-MICROSOFT-CDO-ALLDAYEVENT:FALSE
SUMMARY:The Teacher from the Black Lagoon and Other Story Books
DESCRIPTION:ECU's Family Fare series presents The Teacher from the Black Lagoon and Other Story Books. Take a literary romp through seven books in sixty minutes--that's seven musical vignettes based on books your kids know and love (or are soon to know and love)!\n\n\n	"THE TEACHER FROM THE BLACK LAGOON" Follow Hubie's imagination as he faces his comically horrific fears and discovers that his new teacher is pleasantly human after all.\n	"DOGZILLA" During the First Annual Barbecue Cook-Off\, the dreaded Dogzilla awakens and the residents of Mousopolis must run for their lives. Can they get rid of that stinky dog before it's too late and Mousopolis is destroyed?\n	"GRUMPY BIRD" Bird woke up one morning feeling too grumpy to fly or play. A succession of happy- go-lucky animals help Bird turn his day around as a walk turns into an impromptu game of follow-the-leader.\n	"I WANT MY HAT BACK" Bear's hat is gone and he wants it back! No one seems to know where it is. When the Deer comes by and asks a simple question\, the Bear's memory suddenly returns and he renews his search with a vengeance.\n	"LILY'S PURPLE PLASTIC PURSE" Lily loves everything about school\, especially her teacher\, Mr. Slinger- until he takes away her musical purse. Lily's fury leads to revenge\, then to remorse as she sets out to make amends.\n	"LOVE SPLAT (SPLAT THE CAT)" Splat has a special valentine for his classmate Kitten\, but she doesn't seem to like him at all. Will Splat's heartfelt valentine win Kitten's paw in the end?\n	"THE GRASSHOPPER AND THE ANT" An Ant community narrowly focused on work and possessions learns from the music of little Grasshopper that feeding the belly and feeding the soul both have value. Based a fable by Aesop.\n\nCheaper than the movies\, they're a great way to introduce elementary-aged children to the splendour of live theatre.
X-ALT-DESC;FMTTYPE=text/html:<span style="font-family:arial\,helvetica neue\,helvetica\,sans-serif">ECU&#39\;s Family Fare series presents&nbsp\;</span><em>The Teacher from the Black Lagoon and Other Story Books</em><span style="font-family:arial\,helvetica neue\,helvetica\,sans-serif">. Take a literary romp through seven books in sixty minutes--that&#39\;s seven musical vignettes based on books your kids know and love (or are soon to know and love)!</span>\n\n<ul>\n	<li>&quot\;THE TEACHER FROM THE BLACK LAGOON&quot\; Follow Hubie&#39\;s imagination as he faces his comically horrific fears and discovers that his new teacher is pleasantly human after all.</li>\n	<li>&quot\;DOGZILLA&quot\; During the First Annual Barbecue Cook-Off\, the dreaded Dogzilla awakens and the residents of Mousopolis must run for their lives. Can they get rid of that stinky dog before it&#39\;s too late and Mousopolis is destroyed?</li>\n	<li>&quot\;GRUMPY BIRD&quot\; Bird woke up one morning feeling too grumpy to fly or play. A succession of happy- go-lucky animals help Bird turn his day around as a walk turns into an impromptu game of follow-the-leader.</li>\n	<li>&quot\;I WANT MY HAT BACK&quot\; Bear&#39\;s hat is gone and he wants it back! No one seems to know where it is. When the Deer comes by and asks a simple question\, the Bear&#39\;s memory suddenly returns and he renews his search with a vengeance.</li>\n	<li>&quot\;LILY&#39\;S PURPLE PLASTIC PURSE&quot\; Lily loves everything about school\, especially her teacher\, Mr. Slinger- until he takes away her musical purse. Lily&#39\;s fury leads to revenge\, then to remorse as she sets out to make amends.</li>\n	<li>&quot\;LOVE SPLAT (SPLAT THE CAT)&quot\; Splat has a special valentine for his classmate Kitten\, but she doesn&#39\;t seem to like him at all. Will Splat&#39\;s heartfelt valentine win Kitten&#39\;s paw in the end?</li>\n	<li>&quot\;THE GRASSHOPPER AND THE ANT&quot\; An Ant community narrowly focused on work and possessions learns from the music of little Grasshopper that feeding the belly and feeding the soul both have value. Based a fable by Aesop.</li>\n</ul>\n<span style="font-family:arial\,helvetica neue\,helvetica\,sans-serif">Cheaper than the movies\, they&#39\;re a great way to introduce elementary-aged children to the splendour of live theatre.</span>
LOCATION:ECU's Wright Auditorium
UID:e.840.2684
SEQUENCE:3
DTSTAMP:20260423T211853Z
URL:https://business.greenvillenc.org/events/details/the-teacher-from-the-black-lagoon-and-other-story-books-02-24-2017-2684
END:VEVENT

END:VCALENDAR
