BEGIN:VCALENDAR
VERSION:2.0
PRODID:-//ChamberMaster//Event Calendar 2.0//EN
METHOD:PUBLISH
X-PUBLISHED-TTL:P3D
REFRESH-INTERVAL:P3D
CALSCALE:GREGORIAN
BEGIN:VEVENT
DTSTART:20161111T010000Z
DTEND:20161111T023000Z
X-MICROSOFT-CDO-ALLDAYEVENT:FALSE
SUMMARY:The Other Mozart
DESCRIPTION:East Carolina University's S. Rudolph Alexander Performing Arts Series presents the Other Mozart. The true and untold story of Nannerl Mozart\, the sister of Amadeus - a prodigy\, keyboard virtuoso and composer\, who performed throughout Europe with her brother\, to equal acclaim\, yet her work and her story faded away\, lost to history. Based on facts\, stories and lines pulled directly from the Mozart family's humorous and heartbreaking letters\, the Other Mozart is a world of opulence and elegance. Individual tickets for this event are available on September 30. Sign up for an alert and special offers on our website.
X-ALT-DESC;FMTTYPE=text/html:<span style="font-family:gotham\; font-size:8.5px">East Carolina University&#39\;s S. Rudolph Alexander Performing Arts Series presents the Other Mozart. The true and untold story of Nannerl Mozart\, the sister of Amadeus - a prodigy\, keyboard virtuoso and composer\, who performed throughout Europe with her brother\, to equal acclaim\, yet her work and her story faded away\, lost to history.&nbsp\;Based on facts\, stories and lines pulled directly from the Mozart family&rsquo\;s humorous and heartbreaking letters\, the Other Mozart is a world of&nbsp\;opulence and elegance.&nbsp\;</span><span style="font-family:gotham\; font-size:9px">Individual tickets for this event are available on September 30. Sign up for an alert and special offers on our website.&nbsp\;</span>
LOCATION:ECU's Wright Auditorium
UID:e.840.2674
SEQUENCE:3
DTSTAMP:20260424T000137Z
URL:https://business.greenvillenc.org/events/details/the-other-mozart-11-10-2016-2674
END:VEVENT

END:VCALENDAR
