BEGIN:VCALENDAR
VERSION:2.0
PRODID:-//ChamberMaster//Event Calendar 2.0//EN
METHOD:PUBLISH
X-PUBLISHED-TTL:P3D
REFRESH-INTERVAL:P3D
CALSCALE:GREGORIAN
BEGIN:VEVENT
DTSTART:20170408T000000Z
DTEND:20170408T014500Z
X-MICROSOFT-CDO-ALLDAYEVENT:FALSE
SUMMARY:The Nile Project
DESCRIPTION:ECU's S. Rudolph Alexander Performing Arts Series and friends present the Nile Project. NPR named the Nile Project's debut recording one of five "Must Hear International Albums." Witness one of the tightest cross-cultural collaborations in history\, with artists from the 11 Nile countries showcasing the rich diversity of one of the oldest places on earth. Buzzing timbres and ingenious polyrhythms support vocals in more than ten languages. Instruments that parted ways millennia before are reunited and pushed into new places. Love songs have crossed geographic and linguistic barriers to forge new\, close friendships. General admission seating. Limited tickets available.
X-ALT-DESC;FMTTYPE=text/html:<span style="font-family:gotham\; font-size:8.5px">ECU&#39\;s S. Rudolph Alexander Performing Arts Series and friends present the Nile Project. <em>NPR</em> named the Nile Project&rsquo\;s debut recording&nbsp\;one of five &ldquo\;Must Hear International Albums.&rdquo\; Witness one of the tightest cross-cultural collaborations in history\, with artists from the 11 Nile countries showcasing the rich diversity of one of the oldest places on earth. Buzzing timbres and ingenious polyrhythms support vocals in more than ten languages. Instruments that parted ways millennia before are reunited and pushed into new places. Love songs have crossed geographic and linguistic barriers to forge new\,&nbsp\;</span><span style="font-family:gotham\; font-size:8.5px">close friendships. General admission seating. Limited tickets available.&nbsp\;</span>
LOCATION:ECU's Wright Auditorium
UID:e.840.2680
SEQUENCE:3
DTSTAMP:20260423T181436Z
URL:https://business.greenvillenc.org/events/details/the-nile-project-04-07-2017-2680
END:VEVENT

END:VCALENDAR
