BEGIN:VCALENDAR
VERSION:2.0
PRODID:-//ChamberMaster//Event Calendar 2.0//EN
METHOD:PUBLISH
X-PUBLISHED-TTL:P3D
REFRESH-INTERVAL:P3D
CALSCALE:GREGORIAN
BEGIN:VEVENT
DTSTART:20171209T160000Z
DTEND:20171209T190000Z
X-MICROSOFT-CDO-ALLDAYEVENT:FALSE
SUMMARY:The NIKKEN Advantage Saturday
DESCRIPTION:Please join us for a webcast by Nikken top Field and Corporate leaders and learn how owning an active wellness home based business can transform your life. This event is sponsored by Down East Wellness For You. Nikken is a Research and Development Company with a 40 year track record of helping people achieve balance in their lives by fostering the Five Pillars of Health: Healthy Mind\, Healthy Body\, Healthy Family\, Healthy Society and Healthy Finances. Nikken is looking to launch its business in Eastern North Carolina.\n\nWhat we will cover: \n\n- Who we are and what we do\n\n- What our technologies can do for you\n\n- How to get started\n\n- Launch Plan for our area
X-ALT-DESC;FMTTYPE=text/html:Please join us for a webcast by Nikken top Field and Corporate leaders and learn how owning an active wellness home based business can transform your life. This event is sponsored by Down East Wellness For You. Nikken is a Research and Development Company with a 40 year track record of helping people achieve balance in their lives by fostering the Five Pillars of Health: Healthy Mind\, Healthy Body\, Healthy Family\, Healthy Society and Healthy Finances. Nikken is looking to launch its business in Eastern North Carolina.<br />\nWhat we will cover:&nbsp\;<br />\n- Who we are and what we do<br />\n- What our technologies can do for you<br />\n- How to get started<br />\n- Launch Plan for our area
LOCATION:The event will be held at Winterville Christian Church in the Ellis Hall\, 257 Cooper St.\, Winterville\, NC.
UID:e.840.8685
SEQUENCE:3
DTSTAMP:20260423T045809Z
URL:https://business.greenvillenc.org/events/details/the-nikken-advantage-saturday-8685
END:VEVENT

END:VCALENDAR
