BEGIN:VCALENDAR
VERSION:2.0
PRODID:-//ChamberMaster//Event Calendar 2.0//EN
METHOD:PUBLISH
X-PUBLISHED-TTL:P3D
REFRESH-INTERVAL:P3D
CALSCALE:GREGORIAN
BEGIN:VEVENT
DTSTART;VALUE=DATE:20161109
DTEND;VALUE=DATE:20161201
TRANSP:TRANSPARENT
X-MICROSOFT-CDO-ALLDAYEVENT:TRUE
SUMMARY:The Most Important Conversation We're Not Having - Advance Care Planning
DESCRIPTION:Learn how you can let your family and medical team know what type of medical treatment you would want\, even when you are unable to speak for yourself.  Everyone over the age of 18 needs to complete the Five Step process of advance care planning... Think about what brings value and meaning to your life\, Talk about it with your family and medical team\, Document your choices legally on NC approved documents\, Share your documents appropriately\, and then Review them regularly to make be sure that they still reflect what is important to you.  \n\n\n\nLet us help you move this task from your "To Do" list to "DONE".  Give your family peace of mind by providing them with the information that they would need to honor your decisions in a medical crisis. This is one of the best gifts you can give your family this holiday season - letting them know what is important to you!\n\n\n\nAs Dr. Ira Byock says\, "I have an Advance Directive not because I am sick\, but because I have a family."
X-ALT-DESC;FMTTYPE=text/html:Learn how you can let your family and medical team know what type of medical treatment you would want\, even when you are unable to speak for yourself.&nbsp\; Everyone over the age of 18 needs to complete the Five Step process of&nbsp\;advance care planning... <em><strong>Think</strong></em> about what brings value and meaning to your life\, <em>T<strong>alk</strong></em> about it with your family and medical team\, <em><strong>Document </strong></em>your choices legally on&nbsp\;NC approved documents\, <em><strong>S<strong>hare</strong> </strong></em>your documents appropriately\, and then&nbsp\;<em><strong>Review</strong></em> them&nbsp\;regularly to make be sure that they still reflect what is important to you.&nbsp\;&nbsp\;<br />\n<br />\nLet us help you move this task from your &quot\;To Do&quot\; list to &quot\;DONE&quot\;.&nbsp\; Give your family peace of mind by providing them with the information that they would need to honor your decisions in a medical crisis. This is one of the best gifts you can give your family this holiday season - letting them know what is important to you!<br />\n<br />\nAs Dr. Ira Byock says\, &quot\;I have an Advance Directive not because I am sick\, but because I have a family.&quot\;
LOCATION:East Carolina Heart Institute 115 Heart Drive Greenville\, NC
UID:e.840.6301
SEQUENCE:3
DTSTAMP:20260424T000624Z
URL:https://business.greenvillenc.org/events/details/the-most-important-conversation-we-re-not-having-advance-care-planning-11-09-2016-6301
END:VEVENT

END:VCALENDAR
