BEGIN:VCALENDAR
VERSION:2.0
PRODID:-//ChamberMaster//Event Calendar 2.0//EN
METHOD:PUBLISH
X-PUBLISHED-TTL:P3D
REFRESH-INTERVAL:P3D
CALSCALE:GREGORIAN
BEGIN:VEVENT
DTSTART:20200314T150000Z
DTEND:20200314T180000Z
X-MICROSOFT-CDO-ALLDAYEVENT:FALSE
SUMMARY:The Makers Event at Bostic Sugg Furniture!
DESCRIPTION:Join us for the Bassett Meet the Makers Event at Bostic Sugg Furniture Saturday\, March 14th from 11 am to 2 pm. This is a unique opportunity to meet Bassett Furniture Craftsman in-person! There will be a hands-on demonstration of the construction of a Bassett Huntboard. Enter for a chance to WIN a FREE Bassett Huntboard\, made right in front of you. Must enter to win in-store on 3/14/20 OR 3/15/20.
X-ALT-DESC;FMTTYPE=text/html:Join us for the Bassett Meet the Makers Event at Bostic Sugg Furniture Saturday\, March 14th from 11 am to 2 pm. This is a unique opportunity to meet Bassett Furniture Craftsman in-person! There will be a hands-on demonstration of the construction of a Bassett Huntboard. Enter for a chance to WIN a FREE Bassett Huntboard\, made right in front of you. Must enter to win in-store on 3/14/20 OR 3/15/20.&nbsp\;
LOCATION:Bostic Sugg Furniture - 2115 E Fire Tower Rd\, Greenville\, NC 27858
UID:e.840.11394
SEQUENCE:3
DTSTAMP:20260420T031239Z
URL:https://business.greenvillenc.org/events/details/the-makers-event-at-bostic-sugg-furniture-11394
END:VEVENT

END:VCALENDAR
