BEGIN:VCALENDAR
VERSION:2.0
PRODID:-//ChamberMaster//Event Calendar 2.0//EN
METHOD:PUBLISH
X-PUBLISHED-TTL:P3D
REFRESH-INTERVAL:P3D
CALSCALE:GREGORIAN
BEGIN:VEVENT
DTSTART:20161021T230000Z
DTEND:20161022T000000Z
X-MICROSOFT-CDO-ALLDAYEVENT:FALSE
SUMMARY:The Lion\, the Witch and the Wardrobe
DESCRIPTION:ECU's Family Fare presents The Lion\, the Witch and the Wardrobe. An enchanting tale based on C.S. Lewis' adventure story: four children in war-torn England accidentally enter the land of Narnia by climbing through a magic wardrobe. Narnia's ruler\, the cold-hearted White Witch\, makes winter last all year. Although they seem unlikely saviors\, the children fulfill an ancient prophecy\, defeat the witch\, restore sunshine and peace to the spell-bound land and return the great lion Aslan to his throne. Family Fare events run sixty minutes with no intermission. Cheaper than the movies\, they are a great way to introduce elementary-aged children to the magic of live theatre.
X-ALT-DESC;FMTTYPE=text/html:<span style="font-family:arial\,helvetica neue\,helvetica\,sans-serif">ECU&#39\;s Family Fare presents <em>The Lion\, the Witch and the Wardrobe</em>. An enchanting tale based on C.S. Lewis&#39\; adventure story: four children in war-torn England accidentally enter the land of Narnia by climbing through a magic wardrobe. Narnia&#39\;s ruler\, the cold-hearted White Witch\, makes winter last all year. Although they seem unlikely saviors\, the children fulfill an ancient prophecy\, defeat the witch\, restore sunshine and peace to the spell-bound land and return the great lion Aslan to his throne. Family Fare events run sixty minutes with no intermission. Cheaper than the movies\, they are a great way to introduce elementary-aged children to the magic of live theatre.</span>
LOCATION:ECU's Wright Auditorium
UID:e.840.2681
SEQUENCE:3
DTSTAMP:20260424T023000Z
URL:https://business.greenvillenc.org/events/details/the-lion-the-witch-and-the-wardrobe-10-21-2016-2681
END:VEVENT

END:VCALENDAR
