BEGIN:VCALENDAR
VERSION:2.0
PRODID:-//ChamberMaster//Event Calendar 2.0//EN
METHOD:PUBLISH
X-PUBLISHED-TTL:P3D
REFRESH-INTERVAL:P3D
CALSCALE:GREGORIAN
BEGIN:VEVENT
DTSTART:20161204T210000Z
DTEND:20161204T224500Z
X-MICROSOFT-CDO-ALLDAYEVENT:FALSE
SUMMARY:The Hot Sardines: Holiday Stomp
DESCRIPTION:ECU's S. Rudolph Alexander Performing Arts Series presents the Hot Sardines.\n\nThe Sardine sound   wartime Paris via New Orleans\, or the other way around   is steeped in hot jazz\, salty stride piano\, and the kind of music Louis Armstrong\, Django Reinhardt and Fats Waller used to make: Straight-up\, foot-stomping jazz. (Literally   the band includes a tap dancer whose feet count as two members of the rhythm section). In Holiday Stomp\, the Sardines infuse yuletide classics with lesser-known gems such as Ella Fitzgerald's "Santa Claus Got Stuck in My Chimney." Expect plenty of surprises along the merry way! Individual tickets for this event are available on October 28. Sign up for an alert and special offers on our website.
X-ALT-DESC;FMTTYPE=text/html:<span style="font-family:gotham\; font-size:8.5px">ECU&#39\;s S. Rudolph Alexander Performing Arts Series presents the Hot Sardines.<br />\nThe Sardine sound &ndash\; wartime Paris via New Orleans\, or the other way around &ndash\; is steeped in hot jazz\, salty stride piano\, and the kind of music Louis Armstrong\, Django Reinhardt and Fats Waller used to make: Straight-up\, foot-stomping jazz. (Literally &ndash\; the band includes a tap dancer whose feet count as two members of the rhythm section). In <em>Holiday Stomp\,&nbsp\;</em>the Sardines infuse yuletide classics with lesser-known gems such as Ella Fitzgerald&rsquo\;s &ldquo\;Santa Claus Got Stuck in My Chimney.&rdquo\; Expect plenty of surprises along the merry way!&nbsp\;</span><span style="font-family:gotham\; font-size:9px">Individual tickets for this event are available on October 28. Sign up for an alert and special offers on our website.&nbsp\;</span>
LOCATION:ECU's Wright Auditorium
UID:e.840.2675
SEQUENCE:3
DTSTAMP:20260423T222119Z
URL:https://business.greenvillenc.org/events/details/the-hot-sardines-holiday-stomp-12-04-2016-2675
END:VEVENT

END:VCALENDAR
