BEGIN:VCALENDAR
VERSION:2.0
PRODID:-//ChamberMaster//Event Calendar 2.0//EN
METHOD:PUBLISH
X-PUBLISHED-TTL:P3D
REFRESH-INTERVAL:P3D
CALSCALE:GREGORIAN
BEGIN:VEVENT
DTSTART:20170212T003000Z
DTEND:20170212T013000Z
X-MICROSOFT-CDO-ALLDAYEVENT:FALSE
SUMMARY:The Fisk on Fourth Concert Series
DESCRIPTION:The 2016-2017 Fisk on Fourth Concert Series continues with Professor Andrew Scanlon and the ECU Organ Studio performing a varied program on the Fisk organ in the splendid acoustics of St. Paul's\, Greenville.  Professor Scanlon is the Teaching Assistant Professor of Organ and Sacred Music at ECU\, Organist-Choirmaster at St. Paul's Episcopal Church and Artistic Director for ECMAEF.\n\n\n\nJoin us Saturday\, February 11\, 2017 at 7:30pm at St. Paul's Episcopal Church\, 401 East Fourth Street\, Greenville\, North Carolina for this special event.  All concerts feature The Perkins and Wells Memorial Organ\, C. B. Fisk\, Opus 126.  The concert is free of charge.\n\nThe Fisk on Fourth Concert Series is made possible through the East Carolina Musical Arts Education Foundation (ECMAEF)\, a non-profit corporation\, created to enrich the cultural offerings in Eastern North Carolina and to encourage continued interest in and performance of pipe organ and choral music.
X-ALT-DESC;FMTTYPE=text/html:<span style="font-size:14px\;"><span style="font-family:arial\;">The 2016-2017 Fisk on Fourth Concert Series continues with&nbsp\;<strong>Professor Andrew Scanlon and the ECU Organ Studio&nbsp\;</strong>performing a varied program on the Fisk organ in the splendid acoustics of St. Paul&rsquo\;s\, Greenville. &nbsp\;Professor Scanlon is the&nbsp\;Teaching Assistant Professor of Organ and Sacred Music at&nbsp\;ECU\, Organist-Choirmaster at St. Paul&#39\;s Episcopal Church and&nbsp\;Artistic Director for ECMAEF.<br />\n<br />\nJoin us&nbsp\;<strong>Saturday\, February 11\, 2017 at 7:30pm</strong>&nbsp\;at St. Paul&rsquo\;s Episcopal Church\, 401 East Fourth Street\, Greenville\, North Carolina for this special event.&nbsp\; All concerts feature The Perkins and Wells Memorial Organ\, C. B. Fisk\, Opus 126. &nbsp\;The concert is free of charge.<br />\nThe Fisk on Fourth Concert Series is made possible through the&nbsp\;East Carolina Musical Arts Education Foundation (ECMAEF)\, a non-profit corporation\, created to enrich the cultural offerings in Eastern North Carolina and to encourage continued interest in and performance of pipe organ and choral music.</span></span>
LOCATION:Join us Saturday\, February 11\, 2017 at 7:30pm at St. Paul's Episcopal Church\, 401 East Fourth Street\, Greenville\, North Carolina for this special event. All concerts feature The Perkins and Wells Memorial Organ\, C. B. Fisk\, Opus 126. The concert is free of charge.
UID:e.840.7802
SEQUENCE:3
DTSTAMP:20260423T193956Z
URL:https://business.greenvillenc.org/events/details/the-fisk-on-fourth-concert-series-7802
END:VEVENT

END:VCALENDAR
