BEGIN:VCALENDAR
VERSION:2.0
PRODID:-//ChamberMaster//Event Calendar 2.0//EN
METHOD:PUBLISH
X-PUBLISHED-TTL:P3D
REFRESH-INTERVAL:P3D
CALSCALE:GREGORIAN
BEGIN:VEVENT
DTSTART:20171111T003000Z
DTEND:20171111T013000Z
X-MICROSOFT-CDO-ALLDAYEVENT:FALSE
SUMMARY:The Fisk on Fourth Concert Series
DESCRIPTION:The 2017-2018 Fisk on Fourth Concert Series continues with Bruce Stevens\, University Organist at the University of Richmond.  An international performing and recording artist\, Mr. Stevens will present "Bach and Beyond: German\, Italian\, and French Organ Works from Two Centuries Plus."
X-ALT-DESC;FMTTYPE=text/html:<span style="font-size:14px">The 2017-2018 Fisk on Fourth Concert Series continues with Bruce Stevens\, University Organist at the University of Richmond.&nbsp\; An international performing and recording artist\, Mr. Stevens will present &quot\;Bach and Beyond: German\, Italian\, and French Organ Works from Two Centuries Plus.&quot\;&nbsp\;</span>
LOCATION:Join us Friday\, November 10\, 2017 at 7:30pm at St. Paul's Episcopal Church\, 401 East Fourth Street\, Greenville\, North Carolina for this special event. All concerts feature The Perkins and Wells Memorial Organ\, C. B. Fisk\, Opus 126.
UID:e.840.8674
SEQUENCE:3
DTSTAMP:20260423T080448Z
URL:https://business.greenvillenc.org/events/details/the-fisk-on-fourth-concert-series-11-10-2017-8674
END:VEVENT

END:VCALENDAR
