BEGIN:VCALENDAR
VERSION:2.0
PRODID:-//ChamberMaster//Event Calendar 2.0//EN
METHOD:PUBLISH
X-PUBLISHED-TTL:P3D
REFRESH-INTERVAL:P3D
CALSCALE:GREGORIAN
BEGIN:VEVENT
DTSTART:20151107T003000Z
DTEND:20151107T020000Z
X-MICROSOFT-CDO-ALLDAYEVENT:FALSE
SUMMARY:The Fisk on Fourth Concert Series
DESCRIPTION:The 2015-2016 Fisk on Fourth Concert Series welcomes Janette Fishell in concert on the official 10thAnniversary of the dedication of The Perkins and Wells Memorial Organ\, C. B. Fisk\, Opus 126. Dr. Fishell is Professor of Organ and Chair of the Organ Department at Indiana University. She is the former Chair of Organ Performance and Sacred Music at ECU and remains Director of Music Emerita at St. Paul's Episcopal Church\, Greenville.  Dr. Fishell will present music by Rheinberger\, Howells\, Bach\, Vierne and Reger in the splendid acoustics of St. Paul's.  Join us for a memorable reunion and an evening of brilliant organ playing on Friday\, November 6\, 2015 at 7:30pm at St. Paul's Episcopal Church\,\n\n401 East Fourth Street\, Greenville\, North Carolina.  The concert is free of charge.
X-ALT-DESC;FMTTYPE=text/html:<span style="font-size: 14px\;"><em>The 2015-2016 Fisk on Fourth Concert Series&nbsp\;</em><span style="color: rgb(34\, 34\, 34)\; background-color: rgb(255\, 255\, 255)\;">welcomes&nbsp\;</span><strong>Janette Fishell in concert on the official 10<sup>th</sup>Anniversary of the dedication of The Perkins and Wells Memorial Organ\, C. B. Fisk\, Opus 126.</strong><span style="color: rgb(34\, 34\, 34)\; font-family: georgia\,serif\; background-color: rgb(255\, 255\, 255)\;">&nbsp\;Dr. Fishell is Professor of Organ and Chair of the Organ Department at Indiana University. She is the former Chair of Organ Performance and Sacred Music at ECU and remains Director of Music Emerita at St. Paul&rsquo\;s Episcopal Church\, Greenville.&nbsp\; Dr. Fishell will present music by Rheinberger\, Howells\, Bach\, Vierne and Reger in the splendid acoustics of St. Paul&rsquo\;s.&nbsp\; Join us for a memorable reunion and an evening of brilliant organ playing on&nbsp\;</span><strong>Friday\, </strong><strong>November 6\, 2015 at 7:30pm</strong><span style="color: rgb(34\, 34\, 34)\; font-family: georgia\,serif\; background-color: rgb(255\, 255\, 255)\;">&nbsp\;at St. Paul&rsquo\;s Episcopal Church\,<br />\n401 East Fourth Street\, Greenville\, North Carolina.&nbsp\; The concert is free of charge.</span></span>
LOCATION:St. Paul's Episcopal Church\, 401 East Fourth Street\, Greenville\, NC
UID:e.840.1946
SEQUENCE:3
DTSTAMP:20260424T181913Z
URL:https://business.greenvillenc.org/events/details/the-fisk-on-fourth-concert-series-11-06-2015-1946
END:VEVENT

END:VCALENDAR
