BEGIN:VCALENDAR
VERSION:2.0
PRODID:-//ChamberMaster//Event Calendar 2.0//EN
METHOD:PUBLISH
X-PUBLISHED-TTL:P3D
REFRESH-INTERVAL:P3D
CALSCALE:GREGORIAN
BEGIN:VEVENT
DTSTART:20180316T233000Z
DTEND:20180317T003000Z
X-MICROSOFT-CDO-ALLDAYEVENT:FALSE
SUMMARY:The Fisk on Fourth Concert Series
DESCRIPTION:The 2017-2018 Fisk on Fourth Concert Series highlights Katherine Johnson\, The Cathee Jean Huber Organ Scholar at St. Paul's Episcopal Church.  Ms. Johnson is a pupil of Andrew Scanlon and a high school senior at Nash Community College.  In 2014 she won the East Carolina Young Artists Competition. Ms. Johnson's exciting program will include selections by J. S. Bach\, Charles-Marie Widor\, Maurice Durufl \, and C sar Franck.\n\nJoin us Friday\, March 16\, 2018 at 7:30pm at St. Paul's Episcopal Church\, 401 East Fourth Street\, Greenville\, North Carolina for this special event.  All concerts feature The Perkins and Wells Memorial Organ\, C. B. Fisk\, Opus 126. \n\nThe concert is free of charge.
X-ALT-DESC;FMTTYPE=text/html:The 2017-2018 Fisk on Fourth Concert Series highlights Katherine Johnson\, The Cathee Jean Huber Organ Scholar at St. Paul&rsquo\;s Episcopal Church.&nbsp\; Ms. Johnson is a pupil of Andrew Scanlon and a high school senior at Nash Community College.&nbsp\; In 2014 she won the East Carolina Young Artists Competition. Ms. Johnson&rsquo\;s exciting program will include selections by J. S. Bach\, Charles-Marie Widor\, Maurice Durufl&eacute\;\, and C&eacute\;sar Franck.<br />\nJoin us Friday\, March 16\, 2018 at 7:30pm at St. Paul&rsquo\;s Episcopal Church\, 401 East Fourth Street\, Greenville\, North Carolina for this special event.&nbsp\; All concerts feature The Perkins and Wells Memorial Organ\, C. B. Fisk\, Opus 126.&nbsp\;<br />\nThe concert is free of charge.
LOCATION:St. Paul's Episcopal Church\, 401 East Fourth Street\, Greenville\, North Carolina. All concerts feature The Perkins and Wells Memorial Organ\, C. B. Fisk\, Opus 126. The concert is free of charge.
UID:e.840.8730
SEQUENCE:3
DTSTAMP:20260423T002945Z
URL:https://business.greenvillenc.org/events/details/the-fisk-on-fourth-concert-series-03-16-2018-8730
END:VEVENT

END:VCALENDAR
